BEGIN:VCALENDAR
VERSION:2.0
PRODID:-//ONTARIO CYCLING - ECPv6.15.17.1//NONSGML v1.0//EN
CALSCALE:GREGORIAN
METHOD:PUBLISH
X-WR-CALNAME:ONTARIO CYCLING
X-ORIGINAL-URL:https://ontariocycling.org
X-WR-CALDESC:Events for ONTARIO CYCLING
REFRESH-INTERVAL;VALUE=DURATION:PT1H
X-Robots-Tag:noindex
X-PUBLISHED-TTL:PT1H
BEGIN:VTIMEZONE
TZID:America/Toronto
BEGIN:DAYLIGHT
TZOFFSETFROM:-0500
TZOFFSETTO:-0400
TZNAME:EDT
DTSTART:20230312T070000
END:DAYLIGHT
BEGIN:STANDARD
TZOFFSETFROM:-0400
TZOFFSETTO:-0500
TZNAME:EST
DTSTART:20231105T060000
END:STANDARD
BEGIN:DAYLIGHT
TZOFFSETFROM:-0500
TZOFFSETTO:-0400
TZNAME:EDT
DTSTART:20240310T070000
END:DAYLIGHT
BEGIN:STANDARD
TZOFFSETFROM:-0400
TZOFFSETTO:-0500
TZNAME:EST
DTSTART:20241103T060000
END:STANDARD
BEGIN:DAYLIGHT
TZOFFSETFROM:-0500
TZOFFSETTO:-0400
TZNAME:EDT
DTSTART:20250309T070000
END:DAYLIGHT
BEGIN:STANDARD
TZOFFSETFROM:-0400
TZOFFSETTO:-0500
TZNAME:EST
DTSTART:20251102T060000
END:STANDARD
END:VTIMEZONE
BEGIN:VEVENT
DTSTART;TZID=America/Toronto:20240527T090000
DTEND;TZID=America/Toronto:20240602T170000
DTSTAMP:20260419T220346
CREATED:20231124T191200Z
LAST-MODIFIED:20231124T191200Z
UID:3460-1716800400-1717347600@ontariocycling.org
SUMMARY:Road - 7 Days - Pancreatic Cancer Canada - Peterborough\, ON
DESCRIPTION:7 Days is an epic cycling event when participants support ground-breaking pancreatic cancer research – and have a lot of fun in the process! Over 1\,100 km in 7 days. It’s a challenge\, but you won’t do it alone. Join a close-knit team of riders for seven days of cycling toward a common goal: raising the rate of pancreatic cancer survival. For those unable to make the commitment for the full seven-day ride\, there are alternative options available that give you the flexibility to join the ride for however long you prefer (one-day\, weekend\, three days or more). So\, whether you’re an aspiring or returning rider\, there is an opportunity for you to be part of our incredible cycling community. If you’re looking for an intimate\, intense and impactful cycling and fundraising experience that aims to change the trajectory of pancreatic cancer\, you’ve arrived at the right place. \nHow does it work? \n\nSelect and register to ride! Accepting the challenge is the first step on this incredible journey.\nReach out to your community to let them know about your ride. Create and personalize your fundraising page with your fundraising goal and what motivated you to join 7 Days. Once complete\, reach out to your network and ask for support of your efforts. Don’t worry\, we’ll share fundraising tips and support you along the way!\nTrain for your ride. We’ll share tips to get you ready and connect you with other riders to share your progress and get to know each other.\nIt’s time for the rubber to meet the road! Join your fellow riders and set off on a challenging\, fulfilling\, and fun adventure. Enjoy the ride!\n\n\nRegistration\n\n\nTech Guide
URL:https://ontariocycling.org/event/24-7days/
CATEGORIES:Road
ATTACH;FMTTYPE=image/png:https://ontariocycling.org/wp-content/uploads/2022/08/News-Articles-1.png
END:VEVENT
END:VCALENDAR