BEGIN:VCALENDAR
VERSION:2.0
PRODID:-//ONTARIO CYCLING - ECPv6.15.17.1//NONSGML v1.0//EN
CALSCALE:GREGORIAN
METHOD:PUBLISH
X-WR-CALNAME:ONTARIO CYCLING
X-ORIGINAL-URL:https://ontariocycling.org
X-WR-CALDESC:Events for ONTARIO CYCLING
REFRESH-INTERVAL;VALUE=DURATION:PT1H
X-Robots-Tag:noindex
X-PUBLISHED-TTL:PT1H
BEGIN:VTIMEZONE
TZID:America/Toronto
BEGIN:DAYLIGHT
TZOFFSETFROM:-0500
TZOFFSETTO:-0400
TZNAME:EDT
DTSTART:20230312T070000
END:DAYLIGHT
BEGIN:STANDARD
TZOFFSETFROM:-0400
TZOFFSETTO:-0500
TZNAME:EST
DTSTART:20231105T060000
END:STANDARD
BEGIN:DAYLIGHT
TZOFFSETFROM:-0500
TZOFFSETTO:-0400
TZNAME:EDT
DTSTART:20240310T070000
END:DAYLIGHT
BEGIN:STANDARD
TZOFFSETFROM:-0400
TZOFFSETTO:-0500
TZNAME:EST
DTSTART:20241103T060000
END:STANDARD
BEGIN:DAYLIGHT
TZOFFSETFROM:-0500
TZOFFSETTO:-0400
TZNAME:EDT
DTSTART:20250309T070000
END:DAYLIGHT
BEGIN:STANDARD
TZOFFSETFROM:-0400
TZOFFSETTO:-0500
TZNAME:EST
DTSTART:20251102T060000
END:STANDARD
END:VTIMEZONE
BEGIN:VEVENT
DTSTART;VALUE=DATE:20240511
DTEND;VALUE=DATE:20240512
DTSTAMP:20260420T014912
CREATED:20231124T182953Z
LAST-MODIFIED:20231124T182953Z
UID:3436-1715385600-1715471999@ontariocycling.org
SUMMARY:Road - OCup #2 Lansdowne - Lansdowne\, ON
DESCRIPTION:The Ontario Cup (OCup) Road Series has finally arrived and will kick into high gear starting April 21st. For the 2024 OCup Road Series\, Ontario Cycling will once again be partnering with Performance Driven Events for four OCups and Provincial Championships. \nThe Lansdowne Road Race is a lollipop style course located 30 minutes east of Kingston Ontario. The 14km loop features only 20m in elevation with a 4km out and back section from the start/finish at the Thousand Islands Elementary School. This is by far the flattest road racecourse of the year\, so we encourage all of Ontario’s top sprinters to attend! \n\nRegistration for all OCups is open to riders 15 years of age and older.\nThe event is pre-registration only. Late entries will be reviewed on a case-by-case basis. If granted\, will have an additional fee of 50.00$\nOut of Province riders must have a UCI license. Licenses will not be sold on the day of the event and must be purchased in advance.\nFor Ontario athletes only\, all riders must have completed at least 1 OCup in order to compete at the 2024 Provincial Championships.\nRegistration for each OCup will close the Wednesday before the event.\n\nCourse map and elevation \n\nRegistration\n\n\nTech Guide
URL:https://ontariocycling.org/event/24-road-ocup2/
CATEGORIES:Road
ATTACH;FMTTYPE=image/png:https://ontariocycling.org/wp-content/uploads/2022/08/News-Articles-1.png
END:VEVENT
END:VCALENDAR