BEGIN:VCALENDAR
VERSION:2.0
PRODID:-//ONTARIO CYCLING - ECPv6.15.20//NONSGML v1.0//EN
CALSCALE:GREGORIAN
METHOD:PUBLISH
X-WR-CALNAME:ONTARIO CYCLING
X-ORIGINAL-URL:https://ontariocycling.org
X-WR-CALDESC:Events for ONTARIO CYCLING
REFRESH-INTERVAL;VALUE=DURATION:PT1H
X-Robots-Tag:noindex
X-PUBLISHED-TTL:PT1H
BEGIN:VTIMEZONE
TZID:America/Toronto
BEGIN:DAYLIGHT
TZOFFSETFROM:-0500
TZOFFSETTO:-0400
TZNAME:EDT
DTSTART:20230312T070000
END:DAYLIGHT
BEGIN:STANDARD
TZOFFSETFROM:-0400
TZOFFSETTO:-0500
TZNAME:EST
DTSTART:20231105T060000
END:STANDARD
BEGIN:DAYLIGHT
TZOFFSETFROM:-0500
TZOFFSETTO:-0400
TZNAME:EDT
DTSTART:20240310T070000
END:DAYLIGHT
BEGIN:STANDARD
TZOFFSETFROM:-0400
TZOFFSETTO:-0500
TZNAME:EST
DTSTART:20241103T060000
END:STANDARD
BEGIN:DAYLIGHT
TZOFFSETFROM:-0500
TZOFFSETTO:-0400
TZNAME:EDT
DTSTART:20250309T070000
END:DAYLIGHT
BEGIN:STANDARD
TZOFFSETFROM:-0400
TZOFFSETTO:-0500
TZNAME:EST
DTSTART:20251102T060000
END:STANDARD
END:VTIMEZONE
BEGIN:VEVENT
DTSTART;TZID=America/Toronto:20240511T080000
DTEND;TZID=America/Toronto:20240512T170000
DTSTAMP:20260425T182351
CREATED:20240404T151946Z
LAST-MODIFIED:20240404T151946Z
UID:4549-1715414400-1715533200@ontariocycling.org
SUMMARY:MTB Rising Stars Camp #1
DESCRIPTION:Lead Coach: Roxy Slotegraaf \nCost: $60.00 + trail pass \nOntario Cycling will be hosting a Rising Stars MTB Camp May 11-12 at Harwood Ski & Bike. The camp is focused on developing athletes (ages 13 – 16) who are racing at OCup level with aspirations to race at the Canada Cup and national level events within the next 1-2 years. Skills will include: \n\nReady Position\nAttacking Obstacles (small drops\, with speed)\nCornering (bike/body position and balance)\nCanada Cup course recon\nRace preparation and strategies\n\nAthlete Requirements* \n\nAged 13-16 in 2024\nOC Membership (UCI/Compete/Challenge)\nPrevious race experience at OCup level or higher\nCommitted to racing 2024 OCups & Provincial Championships\n\n\nRegister Here
URL:https://ontariocycling.org/event/mtb-rising-stars-camp-1/
CATEGORIES:High Performance,Mountain Bike,Sport Performance Camp
ATTACH;FMTTYPE=image/jpeg:https://ontariocycling.org/wp-content/uploads/2024/04/PXL_20230327_192757497-scaled-e1712327093389.jpg
END:VEVENT
END:VCALENDAR