BEGIN:VCALENDAR
VERSION:2.0
PRODID:-//ONTARIO CYCLING - ECPv6.15.20//NONSGML v1.0//EN
CALSCALE:GREGORIAN
METHOD:PUBLISH
X-ORIGINAL-URL:https://ontariocycling.org
X-WR-CALDESC:Events for ONTARIO CYCLING
REFRESH-INTERVAL;VALUE=DURATION:PT1H
X-Robots-Tag:noindex
X-PUBLISHED-TTL:PT1H
BEGIN:VTIMEZONE
TZID:America/Toronto
BEGIN:DAYLIGHT
TZOFFSETFROM:-0500
TZOFFSETTO:-0400
TZNAME:EDT
DTSTART:20250309T070000
END:DAYLIGHT
BEGIN:STANDARD
TZOFFSETFROM:-0400
TZOFFSETTO:-0500
TZNAME:EST
DTSTART:20251102T060000
END:STANDARD
BEGIN:DAYLIGHT
TZOFFSETFROM:-0500
TZOFFSETTO:-0400
TZNAME:EDT
DTSTART:20260308T070000
END:DAYLIGHT
BEGIN:STANDARD
TZOFFSETFROM:-0400
TZOFFSETTO:-0500
TZNAME:EST
DTSTART:20261101T060000
END:STANDARD
BEGIN:DAYLIGHT
TZOFFSETFROM:-0500
TZOFFSETTO:-0400
TZNAME:EDT
DTSTART:20270314T070000
END:DAYLIGHT
BEGIN:STANDARD
TZOFFSETFROM:-0400
TZOFFSETTO:-0500
TZNAME:EST
DTSTART:20271107T060000
END:STANDARD
END:VTIMEZONE
BEGIN:VTIMEZONE
TZID:UTC
BEGIN:STANDARD
TZOFFSETFROM:+0000
TZOFFSETTO:+0000
TZNAME:UTC
DTSTART:20240101T000000
END:STANDARD
END:VTIMEZONE
BEGIN:VEVENT
DTSTART;TZID=America/Toronto:20260423T173000
DTEND;TZID=America/Toronto:20260423T203000
DTSTAMP:20260423T110551
CREATED:20260420T170806Z
LAST-MODIFIED:20260420T170806Z
UID:11410-1776965400-1776976200@ontariocycling.org
SUMMARY:Ciociaro Race Series
DESCRIPTION:This year marks a decade of the Ciociaro Race Series! This weekly race takes place on a unique closed circuit at the Ciociaro Club in South Windsor. There are 3 different race categories (A\,B\,C)\, each with a specific start time. Race each week for a chance to win points\, cash primes and pizza! \nThe series standings are based on points so make sure to come each week to win as many points as you can! \nRegistration (Coming Soon) \n  \nSeries Dates: \n\nApril 23rd\nMay 7th\nMay 21st\nJune 4th\nJune 18th\nJuly 2nd\nJuly 16th\nJuly 30th\nAugust 13th\nAugust 20th
URL:https://ontariocycling.org/event/ciociaro-race-series-10/
LOCATION:Ciociaro Club\, 3745 N Talbot Rd\, Oldcastle\, Ontario\, N0R 1L0\, Canada
CATEGORIES:Weekly Series
END:VEVENT
BEGIN:VEVENT
DTSTART;VALUE=DATE:20260425
DTEND;VALUE=DATE:20260426
DTSTAMP:20260423T110551
CREATED:20251128T170421Z
LAST-MODIFIED:20251128T170421Z
UID:10821-1777075200-1777161599@ontariocycling.org
SUMMARY:Hardwood Singletrack Classic
DESCRIPTION:More information coming soon. \n  \nFor any event inquiries please email Events@pulseracing.ca
URL:https://ontariocycling.org/event/hardwood-singletrack-classic/
LOCATION:Hardwood Ski and Bike\, 402 Old Barrie Rd W\, Oro Station\, Ontario\, L0L 2E0\, Canada
CATEGORIES:Mountain Bike
END:VEVENT
BEGIN:VEVENT
DTSTART;TZID=America/Toronto:20260425T100000
DTEND;TZID=America/Toronto:20260425T120000
DTSTAMP:20260423T110551
CREATED:20260420T172818Z
LAST-MODIFIED:20260420T172818Z
UID:11420-1777111200-1777118400@ontariocycling.org
SUMMARY:What is track sprinting & what is performance? Webinar With Track Sprint Coach Johnny Mitchell
DESCRIPTION:The NCIM and Ontario Cycling are happy to host special guest and world class sprint coach Johnny Mitchell for an immersive discussion about track sprinting and its attributes. \nPerhaps best known as the host of The Piste Take podcast\, Mitchell is a former Team GB sprinter\, before transitioning to coaching Mitchell was most recently the Head Sprint Coach for the Belgian Cycling Federation.  Prior to this he coached for the UCI Centre in Aigle Switzerland and for Scotland. \nThis session\, the first in a series will cover a broad introduction to sprinting such as rules\, tactics and physical characteristics of the sport\, and brings valuable international experience than can be hard to come by in Canada.  The sessions will preserve time for questions and discussions as well. \nPlease join us Saturday April 25th at 10am for this unique opportunity! \nRegistration is $15 and available here: \nhttps://clients.mindbodyonline.com/classic/ws?studioid=746031&stype=43&prodGroupId=10822 \n  \nFor participants looking for coaching professional development points please email you NCCP number to admin@ncirevolution.com
URL:https://ontariocycling.org/event/what-is-track-sprinting-what-is-performance-webinar-with-track-sprint-coach-johnny-mitchell/
CATEGORIES:Education,Virtual
END:VEVENT
BEGIN:VEVENT
DTSTART;VALUE=DATE:20260426
DTEND;VALUE=DATE:20260427
DTSTAMP:20260423T110551
CREATED:20251128T165942Z
LAST-MODIFIED:20260313T124545Z
UID:10823-1777161600-1777247999@ontariocycling.org
SUMMARY:Almonte Paris - Roubaix
DESCRIPTION:Like its inspiration\, the 35th Ottawa Valley Almonte Paris Roubaix Cyclosportif mixes well paved roads with abominations. The route includes mud\, gravel\, sand\, rocks\, unmaintained roads\, woodlots and one switchback climb. The classic route is about 80 kilometers. A shorter 40 km is an option for riders and includes 3 woodlots. Note: Riders aged 11 to 16 (turning 11 to 16 in 2026) are eligible to ride only the 40 km route\, and must have an adult riding with them\, or be in a preorganized group with at least one adult. U19 riders (turning 17 or 18 in 2026) may ride the long course. This is a cyclosportif ride\, not a race. The roads are open to other users. All traffic laws\, including stopping at stop signs and staying to the right\, apply to all riders at all times. Marshals may stop or delay riders for safety reasons. Any rider who disobeys their instructions will be immediately removed from the event. There will be no motorized support\, partly because some of the roads are not passable for motor vehicles. We strongly recommend that riders choose cycling equipment for its robustness\, not its lightness. Any kind of bicycle may be used\, although gravel/cyclocross bikes with large section road tires (at least 28 mm wide) are generally the best choice. Fixed gear bicycles must be equipped with at least a front working brake as is required under the Highway Traffic Act. Tri Bars are not allowed – you can’t go all Ted King here. It is each rider’s personal responsibility to ensure that their bicycle is legal and safe for road use in Ontario.  \n  \nRegistration \nTech Guide \nFor any event inquiries please email p_schuck@sympatico.ca
URL:https://ontariocycling.org/event/almonte-paris-roubaix/
CATEGORIES:Gravel
END:VEVENT
BEGIN:VEVENT
DTSTART;VALUE=DATE:20260426
DTEND;VALUE=DATE:20260427
DTSTAMP:20260423T110551
CREATED:20251128T170137Z
LAST-MODIFIED:20260410T182641Z
UID:10822-1777161600-1777247999@ontariocycling.org
SUMMARY:Paris to Ancaster
DESCRIPTION:Inspired by the legendary Paris-Roubaix\, the Paris to Ancaster race takes place in the scenic landscapes of Ontario\, Canada. Since 1994\, this iconic event has challenged riders with farm lanes\, trails\, and gravel roads designed to test every cyclist’s grit. \n  \nThinking of bringing your kids? Let them join in on the fun with the Kids “Let’s Ride!” Course. Click here to learn more \n  \nRegistration \n\nRegular registration closes at 11:59 PM on April 19th\, 2026. While online registration remains open until this date\, late fees apply starting March 30\, 2026\n\n\nFor any event inquiries please email info@multisportcanada.com
URL:https://ontariocycling.org/event/paris-to-ancaster/
CATEGORIES:Gravel
END:VEVENT
BEGIN:VEVENT
DTSTART;TZID=America/Toronto:20260428T120000
DTEND;TZID=America/Toronto:20260428T130000
DTSTAMP:20260423T110551
CREATED:20260106T194547Z
LAST-MODIFIED:20260319T120521Z
UID:11008-1777377600-1777381200@ontariocycling.org
SUMMARY:Ride Leader Training Info Session
DESCRIPTION:Date: April 28th\nTime: 12:00pm\nDuration (Est): 60 Mins\nDiscipline Focus: Road/Gravel\n\nInformation:\nJoin OC Membership Services Manager Chris Baskys and Ride Leader Training Expert Amy White as Amy discusses some important items potential Ride Leaders need to know about running group road/gravel activities. Note: This webinar is only open to members of OC-affiliated clubs and/or teams.\n\nNote: \n\nMaximum 30 registrants\nMust be an OC member to be eligible for entry to the info session. Those registered who are not OC members will not be admitted into the info session room.\nThe webinar will be recorded and a link to the webinar recording will be provided to those who register within a few days of the webinar’s completion.\n\nRegistration Link: https://us02web.zoom.us/meeting/register/3FTUyfNnRNCH-KC515C2sQ\n\nPlease contact info@ontariocycling.org with any questions.
URL:https://ontariocycling.org/event/ride-leader-training-info-session-10/
CATEGORIES:Education,Virtual
END:VEVENT
BEGIN:VEVENT
DTSTART;TZID=America/Toronto:20260428T180000
DTEND;TZID=America/Toronto:20260428T210000
DTSTAMP:20260423T110551
CREATED:20260325T191344Z
LAST-MODIFIED:20260325T191344Z
UID:11261-1777399200-1777410000@ontariocycling.org
SUMMARY:NCCP Skills and Tactics Theory (Virtual)
DESCRIPTION:Dates: Tuesday April 28th\, Tuesday May 5th\, Tuesday May 12th \nOccurrence: Every Tuesday for 3 weeks \n  \nJoin the virtual NCCP Skills and Tactics Theory course every Tuesday from April 28th until May 12th! \n  \nRegistration
URL:https://ontariocycling.org/event/nccp-skills-and-tactics-theory-virtual/
CATEGORIES:Education,Virtual
END:VEVENT
BEGIN:VEVENT
DTSTART;VALUE=DATE:20250819
DTEND;VALUE=DATE:20250820
DTSTAMP:20260423T110551
CREATED:20250416T212752Z
LAST-MODIFIED:20250715T185416Z
UID:7228-1755561600-1755647999@ontariocycling.org
SUMMARY:King Race Weekly MTB Series
DESCRIPTION:The King Race Series provides a friendly and competitive event for riders of all ages and abilities.  Join them weekly from April 29th to September 2nd at the Centennial Trails in King Township to improve your fitness\, skills\, and overall love for mountain biking. Enjoy weekly draw prizes\, demo bikes\, and guest sponsors!  \n  \nRegistration
URL:https://ontariocycling.org/event/king-race-weekly-mtb-series-2/
LOCATION:Richmond Hill\, Richmond Hill\, Ontario\, Canada
CATEGORIES:Mountain Bike,Weekly Series
END:VEVENT
END:VCALENDAR