BEGIN:VCALENDAR
VERSION:2.0
PRODID:-//ONTARIO CYCLING - ECPv6.15.20//NONSGML v1.0//EN
CALSCALE:GREGORIAN
METHOD:PUBLISH
X-WR-CALNAME:ONTARIO CYCLING
X-ORIGINAL-URL:https://ontariocycling.org
X-WR-CALDESC:Events for ONTARIO CYCLING
REFRESH-INTERVAL;VALUE=DURATION:PT1H
X-Robots-Tag:noindex
X-PUBLISHED-TTL:PT1H
BEGIN:VTIMEZONE
TZID:UTC
BEGIN:STANDARD
TZOFFSETFROM:+0000
TZOFFSETTO:+0000
TZNAME:UTC
DTSTART:20240101T000000
END:STANDARD
END:VTIMEZONE
BEGIN:VTIMEZONE
TZID:America/Toronto
BEGIN:DAYLIGHT
TZOFFSETFROM:-0500
TZOFFSETTO:-0400
TZNAME:EDT
DTSTART:20240310T070000
END:DAYLIGHT
BEGIN:STANDARD
TZOFFSETFROM:-0400
TZOFFSETTO:-0500
TZNAME:EST
DTSTART:20241103T060000
END:STANDARD
BEGIN:DAYLIGHT
TZOFFSETFROM:-0500
TZOFFSETTO:-0400
TZNAME:EDT
DTSTART:20250309T070000
END:DAYLIGHT
BEGIN:STANDARD
TZOFFSETFROM:-0400
TZOFFSETTO:-0500
TZNAME:EST
DTSTART:20251102T060000
END:STANDARD
BEGIN:DAYLIGHT
TZOFFSETFROM:-0500
TZOFFSETTO:-0400
TZNAME:EDT
DTSTART:20260308T070000
END:DAYLIGHT
BEGIN:STANDARD
TZOFFSETFROM:-0400
TZOFFSETTO:-0500
TZNAME:EST
DTSTART:20261101T060000
END:STANDARD
BEGIN:DAYLIGHT
TZOFFSETFROM:-0500
TZOFFSETTO:-0400
TZNAME:EDT
DTSTART:20270314T070000
END:DAYLIGHT
BEGIN:STANDARD
TZOFFSETFROM:-0400
TZOFFSETTO:-0500
TZNAME:EST
DTSTART:20271107T060000
END:STANDARD
END:VTIMEZONE
BEGIN:VEVENT
DTSTART;VALUE=DATE:20250819
DTEND;VALUE=DATE:20250820
DTSTAMP:20260425T063333
CREATED:20250416T212752Z
LAST-MODIFIED:20250715T185416Z
UID:7228-1755561600-1755647999@ontariocycling.org
SUMMARY:King Race Weekly MTB Series
DESCRIPTION:The King Race Series provides a friendly and competitive event for riders of all ages and abilities.  Join them weekly from April 29th to September 2nd at the Centennial Trails in King Township to improve your fitness\, skills\, and overall love for mountain biking. Enjoy weekly draw prizes\, demo bikes\, and guest sponsors!  \n  \nRegistration
URL:https://ontariocycling.org/event/king-race-weekly-mtb-series-2/
LOCATION:Richmond Hill\, Richmond Hill\, Ontario\, Canada
CATEGORIES:Mountain Bike,Weekly Series
END:VEVENT
BEGIN:VEVENT
DTSTART;VALUE=DATE:20251206
DTEND;VALUE=DATE:20251207
DTSTAMP:20260425T063333
CREATED:20251008T060015Z
LAST-MODIFIED:20251202T155624Z
UID:10603-1764979200-1765065599@ontariocycling.org
SUMMARY:Track OCup #1
DESCRIPTION:OCup #1 – December 6th\, 2025  \nOntario Cycling (OC) is proud to present the 2025-2026 Track OCup series held at the Mattamy National Cycling Center located at 2015 Pan Am Boulevard in Milton\, Ontario. The Track OCup series\, sanctioned and governed by Ontario Cycling\, consists of 3 separate racing opportunities. Each of the three OCups will offer different events at each one with the inclusion of youth adults and para riders. The OCup series is designed to provide high-quality racing opportunities for riders prior to competing at the Provincial Championships  \n\nRegistration for all OCups is open to riders 8 years of age and older.  \n\n\nU17 riders may choose to race in an adult ability-based category or the youth categories.  \n\n\nU15 riders may be eligible to race in the adult ability-based category with an approved upgrade. Please review the youth upgrade policy for more information.  \n\n\nThe event is pre-registration only. Late entries will be reviewed on a case-by-case basis. If granted\, will have an additional fee of $50. \n\n\nOnly Compete\, Challenge membership and UCI licenses are permitted. Out-of-Province riders must have a UCI license. Licenses will not be sold on the event day and must be purchased in advance.  \n\n\nRegistration for all OCups will close on Wednesday at 11:59pm prior to the event \nThere will be no day of registration. If a rider who is already registered for an event would like to add additional events once registration has closed they will need to reach out to events.team@ontariocycling.org to get approval from OC to add additional events. All requests will be at the reviewed on a case-by-case basis and will be at the sole discretion of OC.\n\nRegistration  \nTech Guide  \n\n\n\n\nDecember 6th\, 2025\n \n\nTime Trial  \nScratch  \nElimination  \nPoints \nIndividual Pursuit (Para) \n\n\n\n\n  \nPricing structure   \n\n\n\n\nCost per event\n \n\n1 event – $45 + HST\n2 events – $90 + HST \n3 events – $135 + HST \n4 events – $180 + HST \n\n\n Cat A-D and Cat A-D Women \n\n\n\n\n$65 + HST\n*Includes all events scheduled for the particular OCup \n\n\n Cat E-G \n\n\n\n\n  \nYouth Track Certification   \n\nAll youth riders must be certified on the Milton Velodrome Track prior to racing. Once you have been certified on the track once you don’t have to be certified again.    \n\n\nAll certifications are done through NCIM through one of the following methods:   \n\n\n\n\nRiders who have no track riding experience will need to attend a Youth Track Certification. Please contact NCIM for more information on when the next Track Certification is taking place.\n\n\n\n\n\n\nRiders who have track riding experience elsewhere may get certified 1 hour prior to competition beginning. Please contact NCIM to arrange the time for the certification.   \n\n\n\n\n\n\nRiders who are track certified in Bromont will need to provide proof that they have been track certified. Please send all certificates to NCIM.   \n\n\n\n  \n​For any additional questions regarding track certification please contact NCIM at the following address admin@ncirevolution.com    \n  \nUpdated Track Start Procedure:\nWith the recent installation of plexiglass along the track rail\, it may be challenging for athletes to safely position themselves or hold onto the rail for standing starts. After consultation with our Track Provincial Coach\, our Track Lead Commissaire and counterparts in the UK who have faced similar challenges\, Ontario Cycling will be implementing a revised start procedure for all events requiring a rail start. Athletes will now begin their race holding from the safety zone railing on the back straight\, completing a 1.5-lap rolling neutral start instead of the traditional single neutral lap. This adjustment ensures both athlete safety and consistency across events. \n​​ \n*Once the start list has been posted there will be NO category changes.
URL:https://ontariocycling.org/event/track-ocup-1/
LOCATION:Milton Velodrome\, 2015 Pan Am Blvd\, Milton\, Ontario\, L9T 2X6\, Canada
CATEGORIES:OCup,Track
END:VEVENT
BEGIN:VEVENT
DTSTART;VALUE=DATE:20250819
DTEND;VALUE=DATE:20250820
DTSTAMP:20260425T063333
CREATED:20250416T212752Z
LAST-MODIFIED:20250715T185416Z
UID:7228-1755561600-1755647999@ontariocycling.org
SUMMARY:King Race Weekly MTB Series
DESCRIPTION:The King Race Series provides a friendly and competitive event for riders of all ages and abilities.  Join them weekly from April 29th to September 2nd at the Centennial Trails in King Township to improve your fitness\, skills\, and overall love for mountain biking. Enjoy weekly draw prizes\, demo bikes\, and guest sponsors!  \n  \nRegistration
URL:https://ontariocycling.org/event/king-race-weekly-mtb-series-2/
LOCATION:Richmond Hill\, Richmond Hill\, Ontario\, Canada
CATEGORIES:Mountain Bike,Weekly Series
END:VEVENT
BEGIN:VEVENT
DTSTART;TZID=America/Toronto:20251213T130000
DTEND;TZID=America/Toronto:20251213T163000
DTSTAMP:20260425T063333
CREATED:20251014T132804Z
LAST-MODIFIED:20251014T132804Z
UID:10656-1765630800-1765643400@ontariocycling.org
SUMMARY:Rising Stars Clinic - Standing Start/Sprint
DESCRIPTION:Rising Stars Camp Dates (Invite Only – Must attend and be selected at Rising Stars ID Camp)  \n\nDecember 13 (Standing Start/Sprint) \n\n\nJanuary 10 (Team Pursuit)  \n\n\nFebruary 21 (Omnium) \n\n  \nThe themes of the camps are based on the corresponding OCup/Provincials in order to provide athletes with additional opportunities to learn the appropriate skills/strategies required to put forth their best effort at races.  \n*Each camp will include a sport science education workshop and/or video session.  The cost per camp will be $60.  \nAthlete Requirements*  \n\nAged 13-17 in 2026 (exception considered on a case by case basis) \n\n\nOC Membership (UCI/Compete/Challenge) \n\n\nMilton Track Certified \n\n\nPrevious race experience at OC Youth Track Development Series\, Provincial Championships\, or NCIM Race Nights  \n\n\nCommitted to racing 2025-2026 OCups & Provincial Championships \n\n  \n*Any questions regarding eligibility or appropriateness of the camp can be directed to michael.selliah@ontariocycling.org 
URL:https://ontariocycling.org/event/rising-stars-clinic-standing-start-sprint/
LOCATION:Milton Velodrome\, 2015 Pan Am Blvd\, Milton\, Ontario\, L9T 2X6\, Canada
CATEGORIES:High Performance,Youth
END:VEVENT
BEGIN:VEVENT
DTSTART;TZID=America/Toronto:20251213T170000
DTEND;TZID=America/Toronto:20251213T210000
DTSTAMP:20260425T063333
CREATED:20251105T124324Z
LAST-MODIFIED:20251105T124324Z
UID:10736-1765645200-1765659600@ontariocycling.org
SUMMARY:NCIM Race Night - Snow's a-comin' Ma!
DESCRIPTION:Snow’s a-comin’ Ma! \nCome out and test your track racing ability! Riders with a UCI Track Cycling license and race certifications are eligible to participate in our race nights which consist of sprint-specific nights\, bunch racing\, and even timed events. With four different ability-based categories you’ll be sure to find a group that fits. Overall race series points for races such as scratch and points races will be awarded at the end of the race season. Test your fitness and racing skills all season long from September to April with our regular NCIM race nights. \n\nScratch\nSnowball\nMelting Snowball\nPoints\n\n  \nFor more information head to their website: NCIM \nRegistration
URL:https://ontariocycling.org/event/ncim-race-night-snows-a-comin-ma/
LOCATION:Milton Velodrome\, 2015 Pan Am Blvd\, Milton\, Ontario\, L9T 2X6\, Canada
CATEGORIES:Track
END:VEVENT
BEGIN:VEVENT
DTSTART;VALUE=DATE:20250819
DTEND;VALUE=DATE:20250820
DTSTAMP:20260425T063333
CREATED:20250416T212752Z
LAST-MODIFIED:20250715T185416Z
UID:7228-1755561600-1755647999@ontariocycling.org
SUMMARY:King Race Weekly MTB Series
DESCRIPTION:The King Race Series provides a friendly and competitive event for riders of all ages and abilities.  Join them weekly from April 29th to September 2nd at the Centennial Trails in King Township to improve your fitness\, skills\, and overall love for mountain biking. Enjoy weekly draw prizes\, demo bikes\, and guest sponsors!  \n  \nRegistration
URL:https://ontariocycling.org/event/king-race-weekly-mtb-series-2/
LOCATION:Richmond Hill\, Richmond Hill\, Ontario\, Canada
CATEGORIES:Mountain Bike,Weekly Series
END:VEVENT
BEGIN:VEVENT
DTSTART;TZID=America/Toronto:20251220T120000
DTEND;TZID=America/Toronto:20251220T163000
DTSTAMP:20260425T063333
CREATED:20251014T130555Z
LAST-MODIFIED:20251014T130555Z
UID:10651-1766232000-1766248200@ontariocycling.org
SUMMARY:Advanced Track Skills Clinic - Madison
DESCRIPTION:Ontario Cycling is pleased to announce a series of one-day Advanced Track Skills clinics for youth cyclists targeting performances at Junior/U17 Canadian Track Championships. Advanced Track Skills Clinic topics include Sprint\, Omniumn\, Madison\, Team Pursuit\, and Standing Starts.  All camps will be lead by Provincial Track Coach\, David Jack\, and other guest coaches and include off-bike workshop components. \n*Registration closes 5 days before the event. \nAthletes must be age-eligible to compete at the 2026 Junior/U19 Track Championships and have previous race experience at National Championships or Provincial Championships in the U17/U19 categories. \nAdvanced Track Skills Schedule and Registrations: \nDecember 20: Advanced Track Skills Clinic (Madison) – REGISTER HERE \n\nJanuary 31: Advanced Track Skills Clinic (Standing Start) – REGISTRATION OPEN SOON \n\nFebruary 14: Advanced Track Skills Clinic (Sprint #2) – REGISTRATION OPEN SOON \n\nMarch 7: Advanced Track Skills Clinic (Madison #2) – REGISTRATION OPEN SOON \n\nIn addition to the track time\, each session will include one hour of off-track programming (i.e. nutrition\, strength & conditioning\, video review\, etc.). \nThe tentative schedule is 12pm – 4:30pm.  The exact schedule will be shared 3-5 days before the event via e-mail.
URL:https://ontariocycling.org/event/advanced-track-skills-clinic-madison/
LOCATION:Milton Velodrome\, 2015 Pan Am Blvd\, Milton\, Ontario\, L9T 2X6\, Canada
CATEGORIES:High Performance
END:VEVENT
BEGIN:VEVENT
DTSTART;TZID=America/Toronto:20251220T170000
DTEND;TZID=America/Toronto:20251220T210000
DTSTAMP:20260425T063333
CREATED:20251105T124610Z
LAST-MODIFIED:20251105T124610Z
UID:10737-1766250000-1766264400@ontariocycling.org
SUMMARY:NCIM Race night - The Elf's Revenge - Prime Night!
DESCRIPTION:The Elf’s Revenge – Prime Night! \nCome out and test your track racing ability! Riders with a UCI Track Cycling license and race certifications are eligible to participate in our race nights which consist of sprint-specific nights\, bunch racing\, and even timed events. With four different ability-based categories you’ll be sure to find a group that fits. Overall race series points for races such as scratch and points races will be awarded at the end of the race season. Test your fitness and racing skills all season long from September to April with our regular NCIM race nights. \n\nScratch\nElimination\nSurprise\nMadison\n\n  \nFor more information head to their website: NCIM \nRegistration
URL:https://ontariocycling.org/event/ncim-race-night-the-elfs-revenge-prime-night/
LOCATION:Milton Velodrome\, 2015 Pan Am Blvd\, Milton\, Ontario\, L9T 2X6\, Canada
CATEGORIES:Track
END:VEVENT
BEGIN:VEVENT
DTSTART;VALUE=DATE:20251222
DTEND;VALUE=DATE:20260105
DTSTAMP:20260425T063333
CREATED:20250820T125935Z
LAST-MODIFIED:20251202T175744Z
UID:10388-1766361600-1767571199@ontariocycling.org
SUMMARY:Ontario Cycling Office Closed
DESCRIPTION:The Ontario Cycling Office will be closed from Monday December 23rd to January 2nd for the holidays. Thank you for understanding!
URL:https://ontariocycling.org/event/ontario-cycling-office-closed/
LOCATION:Milton Velodrome\, 2015 Pan Am Blvd\, Milton\, Ontario\, L9T 2X6\, Canada
END:VEVENT
BEGIN:VEVENT
DTSTART;VALUE=DATE:20250819
DTEND;VALUE=DATE:20250820
DTSTAMP:20260425T063333
CREATED:20250416T212752Z
LAST-MODIFIED:20250715T185416Z
UID:7228-1755561600-1755647999@ontariocycling.org
SUMMARY:King Race Weekly MTB Series
DESCRIPTION:The King Race Series provides a friendly and competitive event for riders of all ages and abilities.  Join them weekly from April 29th to September 2nd at the Centennial Trails in King Township to improve your fitness\, skills\, and overall love for mountain biking. Enjoy weekly draw prizes\, demo bikes\, and guest sponsors!  \n  \nRegistration
URL:https://ontariocycling.org/event/king-race-weekly-mtb-series-2/
LOCATION:Richmond Hill\, Richmond Hill\, Ontario\, Canada
CATEGORIES:Mountain Bike,Weekly Series
END:VEVENT
BEGIN:VEVENT
DTSTART;VALUE=DATE:20250819
DTEND;VALUE=DATE:20250820
DTSTAMP:20260425T063333
CREATED:20250416T212752Z
LAST-MODIFIED:20250715T185416Z
UID:7228-1755561600-1755647999@ontariocycling.org
SUMMARY:King Race Weekly MTB Series
DESCRIPTION:The King Race Series provides a friendly and competitive event for riders of all ages and abilities.  Join them weekly from April 29th to September 2nd at the Centennial Trails in King Township to improve your fitness\, skills\, and overall love for mountain biking. Enjoy weekly draw prizes\, demo bikes\, and guest sponsors!  \n  \nRegistration
URL:https://ontariocycling.org/event/king-race-weekly-mtb-series-2/
LOCATION:Richmond Hill\, Richmond Hill\, Ontario\, Canada
CATEGORIES:Mountain Bike,Weekly Series
END:VEVENT
END:VCALENDAR