BEGIN:VCALENDAR
VERSION:2.0
PRODID:-//ONTARIO CYCLING - ECPv6.15.17.1//NONSGML v1.0//EN
CALSCALE:GREGORIAN
METHOD:PUBLISH
X-WR-CALNAME:ONTARIO CYCLING
X-ORIGINAL-URL:https://ontariocycling.org
X-WR-CALDESC:Events for ONTARIO CYCLING
REFRESH-INTERVAL;VALUE=DURATION:PT1H
X-Robots-Tag:noindex
X-PUBLISHED-TTL:PT1H
BEGIN:VTIMEZONE
TZID:America/Toronto
BEGIN:DAYLIGHT
TZOFFSETFROM:-0500
TZOFFSETTO:-0400
TZNAME:EDT
DTSTART:20250309T070000
END:DAYLIGHT
BEGIN:STANDARD
TZOFFSETFROM:-0400
TZOFFSETTO:-0500
TZNAME:EST
DTSTART:20251102T060000
END:STANDARD
BEGIN:DAYLIGHT
TZOFFSETFROM:-0500
TZOFFSETTO:-0400
TZNAME:EDT
DTSTART:20260308T070000
END:DAYLIGHT
BEGIN:STANDARD
TZOFFSETFROM:-0400
TZOFFSETTO:-0500
TZNAME:EST
DTSTART:20261101T060000
END:STANDARD
BEGIN:DAYLIGHT
TZOFFSETFROM:-0500
TZOFFSETTO:-0400
TZNAME:EDT
DTSTART:20270314T070000
END:DAYLIGHT
BEGIN:STANDARD
TZOFFSETFROM:-0400
TZOFFSETTO:-0500
TZNAME:EST
DTSTART:20271107T060000
END:STANDARD
END:VTIMEZONE
BEGIN:VEVENT
DTSTART;TZID=America/Toronto:20260715T170000
DTEND;TZID=America/Toronto:20260715T220000
DTSTAMP:20260420T183738
CREATED:20251128T171325Z
LAST-MODIFIED:20251128T171325Z
UID:10880-1784134800-1784152800@ontariocycling.org
SUMMARY:Hardwood Wednesday Night Weekly MTB Series
DESCRIPTION:Every Wednesday night from May 6th to August 26th \n  \nRegistration (Coming Soon)
URL:https://ontariocycling.org/event/hardwood-wednesday-night-weekly-mtb-series-8/
LOCATION:Hardwood Ski and Bike\, 402 Old Barrie Rd W\, Oro Station\, Ontario\, L0L 2E0\, Canada
CATEGORIES:Mountain Bike,Weekly Series
END:VEVENT
BEGIN:VEVENT
DTSTART;TZID=America/Toronto:20260716T173000
DTEND;TZID=America/Toronto:20260716T203000
DTSTAMP:20260420T183738
CREATED:20260420T171436Z
LAST-MODIFIED:20260420T171436Z
UID:11416-1784223000-1784233800@ontariocycling.org
SUMMARY:Ciociaro Race Series
DESCRIPTION:This year marks a decade of the Ciociaro Race Series! This weekly race takes place on a unique closed circuit at the Ciociaro Club in South Windsor. There are 3 different race categories (A\,B\,C)\, each with a specific start time. Race each week for a chance to win points\, cash primes and pizza! \nThe series standings are based on points so make sure to come each week to win as many points as you can! \nRegistration (Coming Soon) \n  \nSeries Dates: \n\nApril 23rd\nMay 7th\nMay 21st\nJune 4th\nJune 18th\nJuly 2nd\nJuly 16th\nJuly 30th\nAugust 13th\nAugust 20th
URL:https://ontariocycling.org/event/ciociaro-race-series-10-5/
LOCATION:Ciociaro Club\, 3745 N Talbot Rd\, Oldcastle\, Ontario\, N0R 1L0\, Canada
CATEGORIES:Weekly Series
END:VEVENT
BEGIN:VEVENT
DTSTART;TZID=America/Toronto:20260720T190000
DTEND;TZID=America/Toronto:20260720T210000
DTSTAMP:20260420T183738
CREATED:20260420T184751Z
LAST-MODIFIED:20260420T185953Z
UID:11433-1784574000-1784581200@ontariocycling.org
SUMMARY:Coulson's Hill Weekly Series
DESCRIPTION:This local series has run non-stop since the early 90s – making it one of the longest running cross country mountain bike events in the country. With a focus on fun\, family\, and progression of skills and fitness\, we have turned rookies into passionate cyclists and veterans into champions. \n\nThe races run every Monday from May 4 to August 3\, 2026.\nRacing starts at 7pm sharp and courses are open for pre-riding from approximately 5pm on race day.\n\nThe courses remain marked throughout the week although some signage may be missing or incorrect.\nRace length varies depending on category (~1-4.5km)\n\n\nOverall race length is ~40-75 minutes (~20-30 minutes for Mini-Me)\nCourses are always fresh!\n\nA new course is created from scratch every other week – no two are alike.\nCourses are meticulously groomed\, safe\, and well marked.\nMore than 16 hours/week goes into course preparation.\nNo one in Ontario puts more work into their race courses.\n\n\nMultiple categories – every rider will compete against people of similar skills & fitness. Inclusivity is the name of the game and everyone has a home:\n\n\n\n\nExpert – 4 laps: \nIf you are up for a serious challenge and have lots of experience and excellent fitness\, step up to Expert. Riders in this category should be aiming to race Expert at Provincial level events.\n\n\nSport – 3 laps:\n\nOnce you have mastered the basics and are ready to challenge your endurance\, step up to Sport. Perfect for the typical weekend warrior.\n\n\nNovice – 2 laps:\nOn the start of your cycling journey and want a comfortable place to start from? Novice is for you!\n\n\nMini-Me – 2 laps:\n\nRiding a custom course with minimal technical challenges and few hills\, this is the category for little tykes to get their feet wet. Only open to children 3-12 years old.\n\n\n\n\nParticipate often for Championship Points\n\nMedals & prizing for top 3 in each category\n\n\nWeekly draw prizes – you don’t have to win to be a winner.\nFactory demo days\n\n\nRide bikes from a variety of different manufacturers – real “in the dirt” test rides! (Depends on brand demo availability.)\n\n\n\n\n  \nRegistration (Coming Soon)
URL:https://ontariocycling.org/event/coulsons-hill-weekly-series-10/
LOCATION:3541 11th Line\, Bradford\, ON L3Z 3N5\, 3541 11th Line\, Bradford\, Ontario\, L3Z 3N5\, Canada
CATEGORIES:Mountain Bike,Weekly Series
END:VEVENT
BEGIN:VEVENT
DTSTART;TZID=America/Toronto:20260721T170000
DTEND;TZID=America/Toronto:20260721T210000
DTSTAMP:20260420T183738
CREATED:20260116T135557Z
LAST-MODIFIED:20260116T135557Z
UID:11042-1784653200-1784667600@ontariocycling.org
SUMMARY:Midweek Crit Weekly Series
DESCRIPTION:Every Tuesday from May 26th to Tuesday August 18th. \n  \nRegistration (Coming Soon) \n  \nFor any inquiries and questions please email midweekcycling@gmail.com
URL:https://ontariocycling.org/event/midweek-crit-weekly-series-9/
LOCATION:Tahoe Boulevard & Buckhorn Gate\, 1875 Buckhorn Gate\, Mississauga\, Ontario\, Canada
CATEGORIES:Weekly Series
END:VEVENT
BEGIN:VEVENT
DTSTART;TZID=America/Toronto:20260721T170000
DTEND;TZID=America/Toronto:20260721T220000
DTSTAMP:20260420T183738
CREATED:20251128T171654Z
LAST-MODIFIED:20251128T171654Z
UID:10857-1784653200-1784671200@ontariocycling.org
SUMMARY:Ottawa Tuesday Night Crit - Weekly Series
DESCRIPTION:Every Tuesday from May 5th – August 25th \nMore information coming soon. \n  \nRegistration (Coming Soon)
URL:https://ontariocycling.org/event/ottawa-tuesday-night-crit-weekly-series-7/
LOCATION:Ottawa\, Ottawa\, Ontario\, Canada
CATEGORIES:Criterium,Weekly Series
END:VEVENT
BEGIN:VEVENT
DTSTART;TZID=America/Toronto:20260721T190000
DTEND;TZID=America/Toronto:20260721T210000
DTSTAMP:20260420T183738
CREATED:20260420T191444Z
LAST-MODIFIED:20260420T191444Z
UID:11447-1784660400-1784667600@ontariocycling.org
SUMMARY:King Race MTB Series
DESCRIPTION:The King Race Series provides a friendly and competitive event for riders or all ages and abilities. \nJoin Evolution Cycles weekly at the Centennial Trails in King Township to improve your fitness\, skills\, and overall love for mountain biking. Enjoy weekly draw prizes\, demo bikes\, and guest sponsors! \n\n\n\nEvent Details: \n\nTuesday nights – May 12th\, 2026 to August 25th\, 2026\nCheck in begins at 6:00pm\nOnline registration closes at 6:45 pm\nRace Starts @ 7:00 pm and runs 45 minutes\nCentennial Trails\, 14855 Jane Street\, King City\nNew categories for 2025!\n Red Course (long)Expert – 4 laps\, Sport – 3 laps\, Junior – 2 laps\nGreen Course (short) \nEvolution – 5 laps\, Little Rippers – 3 laps\n\n\n\n\n\nRegistration (Coming Soon)
URL:https://ontariocycling.org/event/king-race-mtb-series-9/
LOCATION:14855 Jane St\, King City\, ON L7B 1K8\, 14855 Jane St\, King City\, Ontario\, L7B 1K8\, Canada
CATEGORIES:Mountain Bike,Weekly Series
END:VEVENT
BEGIN:VEVENT
DTSTART;TZID=America/Toronto:20260722T170000
DTEND;TZID=America/Toronto:20260722T220000
DTSTAMP:20260420T183738
CREATED:20251128T171311Z
LAST-MODIFIED:20251128T173408Z
UID:10879-1784739600-1784757600@ontariocycling.org
SUMMARY:Hardwood Wednesday Night Weekly MTB Series
DESCRIPTION:Every Wednesday night from May 6th to August 26th \n  \nRegistration (Coming Soon)
URL:https://ontariocycling.org/event/hardwood-wednesday-night-weekly-mtb-series-7-2/
LOCATION:Hardwood Ski and Bike\, 402 Old Barrie Rd W\, Oro Station\, Ontario\, L0L 2E0\, Canada
CATEGORIES:Mountain Bike,Weekly Series
END:VEVENT
BEGIN:VEVENT
DTSTART;VALUE=DATE:20260725
DTEND;VALUE=DATE:20260726
DTSTAMP:20260420T183738
CREATED:20251128T170350Z
LAST-MODIFIED:20251128T170350Z
UID:10845-1784937600-1785023999@ontariocycling.org
SUMMARY:Hardwood Summer Epic 8 Hour Relay
DESCRIPTION:More information coming soon. \n  \nRegistration (Coming Soon) \n  \nFor any event inquiries please email Events@pulseracing.ca
URL:https://ontariocycling.org/event/hardwood-summer-epic-8-hour-relay/
LOCATION:Hardwood Ski and Bike\, 402 Old Barrie Rd W\, Oro Station\, Ontario\, L0L 2E0\, Canada
CATEGORIES:Mountain Bike
END:VEVENT
BEGIN:VEVENT
DTSTART;TZID=America/Toronto:20260727T190000
DTEND;TZID=America/Toronto:20260727T210000
DTSTAMP:20260420T183738
CREATED:20260420T184751Z
LAST-MODIFIED:20260420T190042Z
UID:11434-1785178800-1785186000@ontariocycling.org
SUMMARY:Coulson's Hill Weekly Series
DESCRIPTION:This local series has run non-stop since the early 90s – making it one of the longest running cross country mountain bike events in the country. With a focus on fun\, family\, and progression of skills and fitness\, we have turned rookies into passionate cyclists and veterans into champions. \n\nThe races run every Monday from May 4 to August 3\, 2026.\nRacing starts at 7pm sharp and courses are open for pre-riding from approximately 5pm on race day.\n\nThe courses remain marked throughout the week although some signage may be missing or incorrect.\nRace length varies depending on category (~1-4.5km)\n\n\nOverall race length is ~40-75 minutes (~20-30 minutes for Mini-Me)\nCourses are always fresh!\n\nA new course is created from scratch every other week – no two are alike.\nCourses are meticulously groomed\, safe\, and well marked.\nMore than 16 hours/week goes into course preparation.\nNo one in Ontario puts more work into their race courses.\n\n\nMultiple categories – every rider will compete against people of similar skills & fitness. Inclusivity is the name of the game and everyone has a home:\n\n\n\n\nExpert – 4 laps: \nIf you are up for a serious challenge and have lots of experience and excellent fitness\, step up to Expert. Riders in this category should be aiming to race Expert at Provincial level events.\n\n\nSport – 3 laps:\n\nOnce you have mastered the basics and are ready to challenge your endurance\, step up to Sport. Perfect for the typical weekend warrior.\n\n\nNovice – 2 laps:\nOn the start of your cycling journey and want a comfortable place to start from? Novice is for you!\n\n\nMini-Me – 2 laps:\n\nRiding a custom course with minimal technical challenges and few hills\, this is the category for little tykes to get their feet wet. Only open to children 3-12 years old.\n\n\n\n\nParticipate often for Championship Points\n\nMedals & prizing for top 3 in each category\n\n\nWeekly draw prizes – you don’t have to win to be a winner.\nFactory demo days\n\n\nRide bikes from a variety of different manufacturers – real “in the dirt” test rides! (Depends on brand demo availability.)\n\n\n\n\n  \nRegistration (Coming Soon)
URL:https://ontariocycling.org/event/coulsons-hill-weekly-series-11/
LOCATION:3541 11th Line\, Bradford\, ON L3Z 3N5\, 3541 11th Line\, Bradford\, Ontario\, L3Z 3N5\, Canada
CATEGORIES:Mountain Bike,Weekly Series
END:VEVENT
BEGIN:VEVENT
DTSTART;TZID=America/Toronto:20260728T170000
DTEND;TZID=America/Toronto:20260728T210000
DTSTAMP:20260420T183738
CREATED:20260116T135639Z
LAST-MODIFIED:20260116T135639Z
UID:11044-1785258000-1785272400@ontariocycling.org
SUMMARY:Midweek Crit Weekly Series
DESCRIPTION:Every Tuesday from May 26th to Tuesday August 18th. \n  \nRegistration (Coming Soon) \n  \nFor any inquiries and questions please email midweekcycling@gmail.com
URL:https://ontariocycling.org/event/midweek-crit-weekly-series-10/
LOCATION:Tahoe Boulevard & Buckhorn Gate\, 1875 Buckhorn Gate\, Mississauga\, Ontario\, Canada
CATEGORIES:Weekly Series
END:VEVENT
BEGIN:VEVENT
DTSTART;TZID=America/Toronto:20260728T170000
DTEND;TZID=America/Toronto:20260728T220000
DTSTAMP:20260420T183738
CREATED:20251128T171639Z
LAST-MODIFIED:20251128T171639Z
UID:10858-1785258000-1785276000@ontariocycling.org
SUMMARY:Ottawa Tuesday Night Crit - Weekly Series
DESCRIPTION:Every Tuesday from May 5th – August 25th \nMore information coming soon. \n  \nRegistration (Coming Soon)
URL:https://ontariocycling.org/event/ottawa-tuesday-night-crit-weekly-series-6/
LOCATION:Ottawa\, Ottawa\, Ontario\, Canada
CATEGORIES:Criterium,Weekly Series
END:VEVENT
BEGIN:VEVENT
DTSTART;TZID=America/Toronto:20260728T190000
DTEND;TZID=America/Toronto:20260728T210000
DTSTAMP:20260420T183738
CREATED:20260420T191527Z
LAST-MODIFIED:20260420T191527Z
UID:11448-1785265200-1785272400@ontariocycling.org
SUMMARY:King Race MTB Series
DESCRIPTION:The King Race Series provides a friendly and competitive event for riders or all ages and abilities. \nJoin Evolution Cycles weekly at the Centennial Trails in King Township to improve your fitness\, skills\, and overall love for mountain biking. Enjoy weekly draw prizes\, demo bikes\, and guest sponsors! \n\n\n\nEvent Details: \n\nTuesday nights – May 12th\, 2026 to August 25th\, 2026\nCheck in begins at 6:00pm\nOnline registration closes at 6:45 pm\nRace Starts @ 7:00 pm and runs 45 minutes\nCentennial Trails\, 14855 Jane Street\, King City\nNew categories for 2025!\n Red Course (long)Expert – 4 laps\, Sport – 3 laps\, Junior – 2 laps\nGreen Course (short) \nEvolution – 5 laps\, Little Rippers – 3 laps\n\n\n\n\n\nRegistration (Coming Soon)
URL:https://ontariocycling.org/event/king-race-mtb-series-10/
LOCATION:14855 Jane St\, King City\, ON L7B 1K8\, 14855 Jane St\, King City\, Ontario\, L7B 1K8\, Canada
CATEGORIES:Mountain Bike,Weekly Series
END:VEVENT
BEGIN:VEVENT
DTSTART;TZID=America/Toronto:20260729T170000
DTEND;TZID=America/Toronto:20260729T220000
DTSTAMP:20260420T183738
CREATED:20251128T173459Z
LAST-MODIFIED:20251128T173459Z
UID:10928-1785344400-1785362400@ontariocycling.org
SUMMARY:Hardwood Wednesday Night Weekly MTB Series
DESCRIPTION:Every Wednesday night from May 6th to August 26th \n  \nRegistration (Coming Soon)
URL:https://ontariocycling.org/event/hardwood-wednesday-night-weekly-mtb-series-7/
LOCATION:Hardwood Ski and Bike\, 402 Old Barrie Rd W\, Oro Station\, Ontario\, L0L 2E0\, Canada
CATEGORIES:Mountain Bike,Weekly Series
END:VEVENT
BEGIN:VEVENT
DTSTART;TZID=America/Toronto:20260730T173000
DTEND;TZID=America/Toronto:20260730T203000
DTSTAMP:20260420T183738
CREATED:20260420T171534Z
LAST-MODIFIED:20260420T171534Z
UID:11417-1785432600-1785443400@ontariocycling.org
SUMMARY:Ciociaro Race Series
DESCRIPTION:This year marks a decade of the Ciociaro Race Series! This weekly race takes place on a unique closed circuit at the Ciociaro Club in South Windsor. There are 3 different race categories (A\,B\,C)\, each with a specific start time. Race each week for a chance to win points\, cash primes and pizza! \nThe series standings are based on points so make sure to come each week to win as many points as you can! \nRegistration (Coming Soon) \n  \nSeries Dates: \n\nApril 23rd\nMay 7th\nMay 21st\nJune 4th\nJune 18th\nJuly 2nd\nJuly 16th\nJuly 30th\nAugust 13th\nAugust 20th
URL:https://ontariocycling.org/event/ciociaro-race-series-10-6/
LOCATION:Ciociaro Club\, 3745 N Talbot Rd\, Oldcastle\, Ontario\, N0R 1L0\, Canada
CATEGORIES:Weekly Series
END:VEVENT
BEGIN:VEVENT
DTSTART;VALUE=DATE:20260731
DTEND;VALUE=DATE:20260802
DTSTAMP:20260420T183738
CREATED:20251128T170625Z
LAST-MODIFIED:20251128T170625Z
UID:10846-1785456000-1785628799@ontariocycling.org
SUMMARY:2026 Ontario Summer Games
DESCRIPTION:More information coming soon.
URL:https://ontariocycling.org/event/2026-ontario-summer-games/
END:VEVENT
BEGIN:VEVENT
DTSTART;TZID=America/Toronto:20260803T190000
DTEND;TZID=America/Toronto:20260803T210000
DTSTAMP:20260420T183738
CREATED:20260420T184751Z
LAST-MODIFIED:20260420T190125Z
UID:11435-1785783600-1785790800@ontariocycling.org
SUMMARY:Coulson's Hill Weekly Series
DESCRIPTION:This local series has run non-stop since the early 90s – making it one of the longest running cross country mountain bike events in the country. With a focus on fun\, family\, and progression of skills and fitness\, we have turned rookies into passionate cyclists and veterans into champions. \n\nThe races run every Monday from May 4 to August 3\, 2026.\nRacing starts at 7pm sharp and courses are open for pre-riding from approximately 5pm on race day.\n\nThe courses remain marked throughout the week although some signage may be missing or incorrect.\nRace length varies depending on category (~1-4.5km)\n\n\nOverall race length is ~40-75 minutes (~20-30 minutes for Mini-Me)\nCourses are always fresh!\n\nA new course is created from scratch every other week – no two are alike.\nCourses are meticulously groomed\, safe\, and well marked.\nMore than 16 hours/week goes into course preparation.\nNo one in Ontario puts more work into their race courses.\n\n\nMultiple categories – every rider will compete against people of similar skills & fitness. Inclusivity is the name of the game and everyone has a home:\n\n\n\n\nExpert – 4 laps: \nIf you are up for a serious challenge and have lots of experience and excellent fitness\, step up to Expert. Riders in this category should be aiming to race Expert at Provincial level events.\n\n\nSport – 3 laps:\n\nOnce you have mastered the basics and are ready to challenge your endurance\, step up to Sport. Perfect for the typical weekend warrior.\n\n\nNovice – 2 laps:\nOn the start of your cycling journey and want a comfortable place to start from? Novice is for you!\n\n\nMini-Me – 2 laps:\n\nRiding a custom course with minimal technical challenges and few hills\, this is the category for little tykes to get their feet wet. Only open to children 3-12 years old.\n\n\n\n\nParticipate often for Championship Points\n\nMedals & prizing for top 3 in each category\n\n\nWeekly draw prizes – you don’t have to win to be a winner.\nFactory demo days\n\n\nRide bikes from a variety of different manufacturers – real “in the dirt” test rides! (Depends on brand demo availability.)\n\n\n\n\n  \nRegistration (Coming Soon)
URL:https://ontariocycling.org/event/coulsons-hill-weekly-series-12/
LOCATION:3541 11th Line\, Bradford\, ON L3Z 3N5\, 3541 11th Line\, Bradford\, Ontario\, L3Z 3N5\, Canada
CATEGORIES:Mountain Bike,Weekly Series
END:VEVENT
BEGIN:VEVENT
DTSTART;TZID=America/Toronto:20260804T170000
DTEND;TZID=America/Toronto:20260804T210000
DTSTAMP:20260420T183738
CREATED:20260116T135736Z
LAST-MODIFIED:20260116T135736Z
UID:11045-1785862800-1785877200@ontariocycling.org
SUMMARY:Midweek Crit Weekly Series
DESCRIPTION:Every Tuesday from May 26th to Tuesday August 18th. \n  \nRegistration (Coming Soon) \n  \nFor any inquiries and questions please email midweekcycling@gmail.com
URL:https://ontariocycling.org/event/midweek-crit-weekly-series-11/
LOCATION:Tahoe Boulevard & Buckhorn Gate\, 1875 Buckhorn Gate\, Mississauga\, Ontario\, Canada
CATEGORIES:Weekly Series
END:VEVENT
BEGIN:VEVENT
DTSTART;TZID=America/Toronto:20260804T170000
DTEND;TZID=America/Toronto:20260804T220000
DTSTAMP:20260420T183738
CREATED:20251128T171623Z
LAST-MODIFIED:20251128T171623Z
UID:10859-1785862800-1785880800@ontariocycling.org
SUMMARY:Ottawa Tuesday Night Crit - Weekly Series
DESCRIPTION:Every Tuesday from May 5th – August 25th \nMore information coming soon. \n  \nRegistration (Coming Soon)
URL:https://ontariocycling.org/event/ottawa-tuesday-night-crit-weekly-series-5/
LOCATION:Ottawa\, Ottawa\, Ontario\, Canada
CATEGORIES:Criterium,Weekly Series
END:VEVENT
BEGIN:VEVENT
DTSTART;TZID=America/Toronto:20260804T190000
DTEND;TZID=America/Toronto:20260804T213000
DTSTAMP:20260420T183738
CREATED:20260420T191617Z
LAST-MODIFIED:20260420T191617Z
UID:11449-1785870000-1785879000@ontariocycling.org
SUMMARY:King Race MTB Series
DESCRIPTION:The King Race Series provides a friendly and competitive event for riders or all ages and abilities. \nJoin Evolution Cycles weekly at the Centennial Trails in King Township to improve your fitness\, skills\, and overall love for mountain biking. Enjoy weekly draw prizes\, demo bikes\, and guest sponsors! \n\n\n\nEvent Details: \n\nTuesday nights – May 12th\, 2026 to August 25th\, 2026\nCheck in begins at 6:00pm\nOnline registration closes at 6:45 pm\nRace Starts @ 7:00 pm and runs 45 minutes\nCentennial Trails\, 14855 Jane Street\, King City\nNew categories for 2025!\n Red Course (long)Expert – 4 laps\, Sport – 3 laps\, Junior – 2 laps\nGreen Course (short) \nEvolution – 5 laps\, Little Rippers – 3 laps\n\n\n\n\n\nRegistration (Coming Soon)
URL:https://ontariocycling.org/event/king-race-mtb-series-11/
LOCATION:14855 Jane St\, King City\, ON L7B 1K8\, 14855 Jane St\, King City\, Ontario\, L7B 1K8\, Canada
CATEGORIES:Mountain Bike,Weekly Series
END:VEVENT
BEGIN:VEVENT
DTSTART;TZID=America/Toronto:20260805T170000
DTEND;TZID=America/Toronto:20260805T220000
DTSTAMP:20260420T183738
CREATED:20251128T171221Z
LAST-MODIFIED:20251128T173317Z
UID:10874-1785949200-1785967200@ontariocycling.org
SUMMARY:Hardwood Wednesday Night Weekly MTB Series
DESCRIPTION:Every Wednesday night from May 6th to August 26th \n  \nRegistration (Coming Soon)
URL:https://ontariocycling.org/event/hardwood-wednesday-night-weekly-mtb-series-5/
LOCATION:Hardwood Ski and Bike\, 402 Old Barrie Rd W\, Oro Station\, Ontario\, L0L 2E0\, Canada
CATEGORIES:Mountain Bike,Weekly Series
END:VEVENT
BEGIN:VEVENT
DTSTART;VALUE=DATE:20260807
DTEND;VALUE=DATE:20260810
DTSTAMP:20260420T183738
CREATED:20251128T170600Z
LAST-MODIFIED:20251128T170600Z
UID:10847-1786060800-1786319999@ontariocycling.org
SUMMARY:2026 Road Provincial Championships
DESCRIPTION:Time Trial Provincials – August 7th  \nCrit Provincials – August 8th  \nRoad Provincials – August 9th  \n  \nRegistration (Coming Soon)
URL:https://ontariocycling.org/event/2026-road-provincial-championships/
LOCATION:Ottawa\, Ottawa\, Ontario\, Canada
CATEGORIES:Road
END:VEVENT
BEGIN:VEVENT
DTSTART;TZID=America/Toronto:20260811T170000
DTEND;TZID=America/Toronto:20260811T210000
DTSTAMP:20260420T183738
CREATED:20260116T135816Z
LAST-MODIFIED:20260116T135816Z
UID:11046-1786467600-1786482000@ontariocycling.org
SUMMARY:Midweek Crit Weekly Series
DESCRIPTION:Every Tuesday from May 26th to Tuesday August 18th. \n  \nRegistration (Coming Soon) \n  \nFor any inquiries and questions please email midweekcycling@gmail.com
URL:https://ontariocycling.org/event/midweek-crit-weekly-series-12/
LOCATION:Tahoe Boulevard & Buckhorn Gate\, 1875 Buckhorn Gate\, Mississauga\, Ontario\, Canada
CATEGORIES:Weekly Series
END:VEVENT
BEGIN:VEVENT
DTSTART;TZID=America/Toronto:20260811T170000
DTEND;TZID=America/Toronto:20260811T220000
DTSTAMP:20260420T183738
CREATED:20251128T171609Z
LAST-MODIFIED:20251128T171609Z
UID:10860-1786467600-1786485600@ontariocycling.org
SUMMARY:Ottawa Tuesday Night Crit - Weekly Series
DESCRIPTION:Every Tuesday from May 5th – August 25th \nMore information coming soon. \n  \nRegistration (Coming Soon)
URL:https://ontariocycling.org/event/ottawa-tuesday-night-crit-weekly-series-4/
LOCATION:Ottawa\, Ottawa\, Ontario\, Canada
CATEGORIES:Criterium,Weekly Series
END:VEVENT
BEGIN:VEVENT
DTSTART;TZID=America/Toronto:20260811T190000
DTEND;TZID=America/Toronto:20260811T210000
DTSTAMP:20260420T183738
CREATED:20260420T191708Z
LAST-MODIFIED:20260420T191708Z
UID:11450-1786474800-1786482000@ontariocycling.org
SUMMARY:King Race MTB Series
DESCRIPTION:The King Race Series provides a friendly and competitive event for riders or all ages and abilities. \nJoin Evolution Cycles weekly at the Centennial Trails in King Township to improve your fitness\, skills\, and overall love for mountain biking. Enjoy weekly draw prizes\, demo bikes\, and guest sponsors! \n\n\n\nEvent Details: \n\nTuesday nights – May 12th\, 2026 to August 25th\, 2026\nCheck in begins at 6:00pm\nOnline registration closes at 6:45 pm\nRace Starts @ 7:00 pm and runs 45 minutes\nCentennial Trails\, 14855 Jane Street\, King City\nNew categories for 2025!\n Red Course (long)Expert – 4 laps\, Sport – 3 laps\, Junior – 2 laps\nGreen Course (short) \nEvolution – 5 laps\, Little Rippers – 3 laps\n\n\n\n\n\nRegistration (Coming Soon)
URL:https://ontariocycling.org/event/king-race-mtb-series-12/
LOCATION:14855 Jane St\, King City\, ON L7B 1K8\, 14855 Jane St\, King City\, Ontario\, L7B 1K8\, Canada
CATEGORIES:Mountain Bike,Weekly Series
END:VEVENT
BEGIN:VEVENT
DTSTART;TZID=America/Toronto:20260805T170000
DTEND;TZID=America/Toronto:20260805T220000
DTSTAMP:20260420T183738
CREATED:20251128T171256Z
LAST-MODIFIED:20251128T171256Z
UID:10877-1785949200-1785967200@ontariocycling.org
SUMMARY:Hardwood Wednesday Night Weekly MTB Series
DESCRIPTION:Every Wednesday night from May 6th to August 26th \n  \nRegistration (Coming Soon)
URL:https://ontariocycling.org/event/hardwood-wednesday-night-weekly-mtb-series-6/
LOCATION:Hardwood Ski and Bike\, 402 Old Barrie Rd W\, Oro Station\, Ontario\, L0L 2E0\, Canada
CATEGORIES:Mountain Bike,Weekly Series
END:VEVENT
BEGIN:VEVENT
DTSTART;TZID=America/Toronto:20260813T173000
DTEND;TZID=America/Toronto:20260813T203000
DTSTAMP:20260420T183738
CREATED:20260420T172323Z
LAST-MODIFIED:20260420T172323Z
UID:11418-1786642200-1786653000@ontariocycling.org
SUMMARY:Ciociaro Race Series
DESCRIPTION:This year marks a decade of the Ciociaro Race Series! This weekly race takes place on a unique closed circuit at the Ciociaro Club in South Windsor. There are 3 different race categories (A\,B\,C)\, each with a specific start time. Race each week for a chance to win points\, cash primes and pizza! \nThe series standings are based on points so make sure to come each week to win as many points as you can! \nRegistration (Coming Soon) \n  \nSeries Dates: \n\nApril 23rd\nMay 7th\nMay 21st\nJune 4th\nJune 18th\nJuly 2nd\nJuly 16th\nJuly 30th\nAugust 13th\nAugust 20th
URL:https://ontariocycling.org/event/ciociaro-race-series-10-7/
LOCATION:Ciociaro Club\, 3745 N Talbot Rd\, Oldcastle\, Ontario\, N0R 1L0\, Canada
CATEGORIES:Weekly Series
END:VEVENT
BEGIN:VEVENT
DTSTART;TZID=America/Toronto:20260818T170000
DTEND;TZID=America/Toronto:20260818T210000
DTSTAMP:20260420T183738
CREATED:20260116T135931Z
LAST-MODIFIED:20260116T135931Z
UID:11047-1787072400-1787086800@ontariocycling.org
SUMMARY:Midweek Crit Weekly Series
DESCRIPTION:Every Tuesday from May 26th to Tuesday August 18th. \n  \nRegistration (Coming Soon) \n  \nFor any inquiries and questions please email midweekcycling@gmail.com
URL:https://ontariocycling.org/event/midweek-crit-weekly-series-13/
LOCATION:Tahoe Boulevard & Buckhorn Gate\, 1875 Buckhorn Gate\, Mississauga\, Ontario\, Canada
CATEGORIES:Weekly Series
END:VEVENT
BEGIN:VEVENT
DTSTART;TZID=America/Toronto:20260818T170000
DTEND;TZID=America/Toronto:20260818T220000
DTSTAMP:20260420T183738
CREATED:20251128T171549Z
LAST-MODIFIED:20251128T171549Z
UID:10861-1787072400-1787090400@ontariocycling.org
SUMMARY:Ottawa Tuesday Night Crit - Weekly Series
DESCRIPTION:Every Tuesday from May 5th – August 25th \nMore information coming soon. \n  \nRegistration (Coming Soon)
URL:https://ontariocycling.org/event/ottawa-tuesday-night-crit-weekly-series-3/
LOCATION:Ottawa\, Ottawa\, Ontario\, Canada
CATEGORIES:Criterium,Weekly Series
END:VEVENT
BEGIN:VEVENT
DTSTART;TZID=America/Toronto:20260818T190000
DTEND;TZID=America/Toronto:20260818T210000
DTSTAMP:20260420T183738
CREATED:20260420T191752Z
LAST-MODIFIED:20260420T191752Z
UID:11451-1787079600-1787086800@ontariocycling.org
SUMMARY:King Race MTB Series
DESCRIPTION:The King Race Series provides a friendly and competitive event for riders or all ages and abilities. \nJoin Evolution Cycles weekly at the Centennial Trails in King Township to improve your fitness\, skills\, and overall love for mountain biking. Enjoy weekly draw prizes\, demo bikes\, and guest sponsors! \n\n\n\nEvent Details: \n\nTuesday nights – May 12th\, 2026 to August 25th\, 2026\nCheck in begins at 6:00pm\nOnline registration closes at 6:45 pm\nRace Starts @ 7:00 pm and runs 45 minutes\nCentennial Trails\, 14855 Jane Street\, King City\nNew categories for 2025!\n Red Course (long)Expert – 4 laps\, Sport – 3 laps\, Junior – 2 laps\nGreen Course (short) \nEvolution – 5 laps\, Little Rippers – 3 laps\n\n\n\n\n\nRegistration (Coming Soon)
URL:https://ontariocycling.org/event/king-race-mtb-series-13/
LOCATION:14855 Jane St\, King City\, ON L7B 1K8\, 14855 Jane St\, King City\, Ontario\, L7B 1K8\, Canada
CATEGORIES:Mountain Bike,Weekly Series
END:VEVENT
BEGIN:VEVENT
DTSTART;TZID=America/Toronto:20260819T170000
DTEND;TZID=America/Toronto:20260819T220000
DTSTAMP:20260420T183738
CREATED:20251128T171209Z
LAST-MODIFIED:20251128T171209Z
UID:10875-1787158800-1787176800@ontariocycling.org
SUMMARY:Hardwood Wednesday Night Weekly MTB Series
DESCRIPTION:Every Wednesday night from May 6th to August 26th \n  \nRegistration (Coming Soon)
URL:https://ontariocycling.org/event/hardwood-wednesday-night-weekly-mtb-series-4/
LOCATION:Hardwood Ski and Bike\, 402 Old Barrie Rd W\, Oro Station\, Ontario\, L0L 2E0\, Canada
CATEGORIES:Mountain Bike,Weekly Series
END:VEVENT
END:VCALENDAR