BEGIN:VCALENDAR
VERSION:2.0
PRODID:-//ONTARIO CYCLING - ECPv6.15.17.1//NONSGML v1.0//EN
CALSCALE:GREGORIAN
METHOD:PUBLISH
X-WR-CALNAME:ONTARIO CYCLING
X-ORIGINAL-URL:https://ontariocycling.org
X-WR-CALDESC:Events for ONTARIO CYCLING
REFRESH-INTERVAL;VALUE=DURATION:PT1H
X-Robots-Tag:noindex
X-PUBLISHED-TTL:PT1H
BEGIN:VTIMEZONE
TZID:America/Toronto
BEGIN:DAYLIGHT
TZOFFSETFROM:-0500
TZOFFSETTO:-0400
TZNAME:EDT
DTSTART:20240310T070000
END:DAYLIGHT
BEGIN:STANDARD
TZOFFSETFROM:-0400
TZOFFSETTO:-0500
TZNAME:EST
DTSTART:20241103T060000
END:STANDARD
BEGIN:DAYLIGHT
TZOFFSETFROM:-0500
TZOFFSETTO:-0400
TZNAME:EDT
DTSTART:20250309T070000
END:DAYLIGHT
BEGIN:STANDARD
TZOFFSETFROM:-0400
TZOFFSETTO:-0500
TZNAME:EST
DTSTART:20251102T060000
END:STANDARD
BEGIN:DAYLIGHT
TZOFFSETFROM:-0500
TZOFFSETTO:-0400
TZNAME:EDT
DTSTART:20260308T070000
END:DAYLIGHT
BEGIN:STANDARD
TZOFFSETFROM:-0400
TZOFFSETTO:-0500
TZNAME:EST
DTSTART:20261101T060000
END:STANDARD
END:VTIMEZONE
BEGIN:VTIMEZONE
TZID:UTC
BEGIN:STANDARD
TZOFFSETFROM:+0000
TZOFFSETTO:+0000
TZNAME:UTC
DTSTART:20240101T000000
END:STANDARD
END:VTIMEZONE
BEGIN:VEVENT
DTSTART;TZID=America/Toronto:20250909T183000
DTEND;TZID=America/Toronto:20250909T213000
DTSTAMP:20260420T152809
CREATED:20250904T122118Z
LAST-MODIFIED:20250904T122118Z
UID:10484-1757442600-1757453400@ontariocycling.org
SUMMARY:LapDogs Cycling Club MTB Try a Ride
DESCRIPTION:Beginner-friendly mountain bike ride in the Don.  We’ll ride trails appropriate to the group attending.  Meaning\, if you are new to mountain biking or the Don or just want to go easy\, then we’ll ride greens and blues.   However\, if the group is experienced but just wants to ride at a more chill pace than the Serious group\, then we’ll ride an assortment of trails but at a more social pace.  \n  \nMandatory – mountain bike with knobby tires\, helmet\, water and bike tools to fix a flat.  NEED LIGHTS for the end of the RIDE!   \n  \nAfter the ride we usually tailgate in the parking lot getting drinks and snacks at Loblaws or head to a local restaurant for dinner. \n  \nRide Date: Tuesday Sept 9th \n  \nRide Start Time: 6:30 PM \n  \nEvent Information \n  \nMeetup spot – in Loblaws parking lot that is closest to the forest – Crother’s Woods. You can google map to Thomas Hauser Memorial: https://maps.app.goo.gl/U2aZMHbkFnmgTk5KA \n  \nFor more information\, please reach out to either Maureen (maureen@lapdogs.ca) or Andrew (andrew@lapdogs.ca)
URL:https://ontariocycling.org/event/lapdogs-cycling-club-mtb-try-a-ride/
LOCATION:11 Redway Rd\, East York\, ON\, M4H 1P6\, 11 Redway Rd\, East York\, Ontario\, M4H 1P6\, Canada
END:VEVENT
BEGIN:VEVENT
DTSTART;VALUE=DATE:20250909
DTEND;VALUE=DATE:20250910
DTSTAMP:20260420T152809
CREATED:20250806T190823Z
LAST-MODIFIED:20250806T190823Z
UID:10333-1757376000-1757462399@ontariocycling.org
SUMMARY:Hardwood Weekly CX Series
DESCRIPTION:September 10th to October 22nd \nMore information coming soon. \n  \nRegistration (Coming Soon)
URL:https://ontariocycling.org/event/hardwood-weekly-cx-series/
LOCATION:Hardwood Ski and Bike\, 402 Old Barrie Rd W\, Oro Station\, Ontario\, L0L 2E0\, Canada
CATEGORIES:Cyclo-Cross,Weekly Series
ORGANIZER;CN="Pulse Racing":MAILTO:glenn@pulseracing.ca
END:VEVENT
BEGIN:VEVENT
DTSTART;VALUE=DATE:20250906
DTEND;VALUE=DATE:20250907
DTSTAMP:20260420T152809
CREATED:20250212T182538Z
LAST-MODIFIED:20250703T054249Z
UID:6750-1757116800-1757203199@ontariocycling.org
SUMMARY:Grey Highlands Gran Fondo
DESCRIPTION:Grey Highlands Gran Fondo starts and finishes in the town of Markdale. Routes meander through beautiful Grey Highlands passing through Walter’s Falls\, Bognor\, Meaford\, Thornbury\, and the picturesque Beaver Valley. Our 26k and 53k routes are family friendly\, while the 77k and 124k routes will challenge intermediate and experienced riders. Conquer Scotch Mountain on the 77k. Climb Wards Hill out of the 122K. All routes feature quiet rural roads\, rolling terrain and spectacular views at every turn! Grey Highlands is truly a cyclist’s paradise! Interested in a bit of a challenge? Participate in our KING OF THE MOUNTAIN and QUEEN OF THE MOUNTAIN in our 77K and 124K routes. Limited to 500 riders\, so register early! Enjoy a great day on the bike and help raise funds to equip the new Markdale Hospital. \n  \nRegistration
URL:https://ontariocycling.org/event/grey-highlands/
LOCATION:Ontario
CATEGORIES:Road
END:VEVENT
BEGIN:VEVENT
DTSTART;VALUE=DATE:20250906
DTEND;VALUE=DATE:20250907
DTSTAMP:20260420T152809
CREATED:20241113T170055Z
LAST-MODIFIED:20250625T195809Z
UID:6715-1757116800-1757203199@ontariocycling.org
SUMMARY:Road - The HunTer Fondo
DESCRIPTION:Register now to race in honour of friend\, mentor and cyclist\, John Hunter. \nThis year it is a choose your own adventure ride. The event is a Poker Challenge\, the farther you ride the more chances to improve your poker hand to win some great prizes. Follow the route\, or get creative with gravel\, fire routes\, and other challenges to navigate to the different waypoints. Routes are from 30K to 130K. Event includes our fantastic support stations\, a fantastic lunch\, 100 Acre beer\, prizes\, and a great social. We have Strava Segment prizes\, draw prizes\, and two special prizes for the day. \nThis year’s event raises money for our two local hospitals Peterborough Regional Health Centre Foundation and Campbellford Memorial Hospital. \nRegistration
URL:https://ontariocycling.org/event/road-the-hunter-fondo/
LOCATION:100 Acre Brewing Company\, 390 Ashburnham Drive\, Peterborough\, Ontario\, K9L 0C8\, Canada
CATEGORIES:Road
END:VEVENT
BEGIN:VEVENT
DTSTART;VALUE=DATE:20250903
DTEND;VALUE=DATE:20250904
DTSTAMP:20260420T152809
CREATED:20250806T191856Z
LAST-MODIFIED:20250826T151842Z
UID:10343-1756857600-1756943999@ontariocycling.org
SUMMARY:Nordic Cats Cross Club Weekly Series
DESCRIPTION:August 27th to October 29th \nIf you’re a cyclist looking to sharpen your skills and have some fun\, you need to check out Nordic Cats! This weekly cyclocross race series\, held at Pete’s Windy Farm\, is the perfect way to get your heart pumping and prepare for the cyclocross season. \nEvery Wednesday from August 27th to October 29th\, you can hit the dirt\, grass\, and challenging terrain with other local cyclists. It’s a great opportunity to improve your technique\, build endurance\, and connect with the local cycling community. Whether you’re a seasoned racer or a curious beginner\, the course is designed to be fun and challenging for all skill levels. So grab your bike\, embrace the mud\, and join us for some action- packed Wednesday evenings!   \nPricing:   \n\nAdult Series – $85 (adults 19 years of age and older) \n\n\nFamily Series – $170 (pay for two adult registrations and kids under 19 are free within the same household) \n\n\nUnder 19 Series – $45 \n\n\nTry a Race / Pay-as-you-Roll – $20 per race (fee is applied to your season fee if you come back!)  \n\n  \nRegistration
URL:https://ontariocycling.org/event/nordic-cats-cross-club-weekly-series-2/
LOCATION:275445 27th Line\, 275445 27th Line\, Thamesford\, Ontario\, N0M 2M0\, Canada
CATEGORIES:Cyclo-Cross,Weekly Series
END:VEVENT
BEGIN:VEVENT
DTSTART;VALUE=DATE:20250819
DTEND;VALUE=DATE:20250820
DTSTAMP:20260420T152809
CREATED:20250416T212752Z
LAST-MODIFIED:20250715T185416Z
UID:7228-1755561600-1755647999@ontariocycling.org
SUMMARY:King Race Weekly MTB Series
DESCRIPTION:The King Race Series provides a friendly and competitive event for riders of all ages and abilities.  Join them weekly from April 29th to September 2nd at the Centennial Trails in King Township to improve your fitness\, skills\, and overall love for mountain biking. Enjoy weekly draw prizes\, demo bikes\, and guest sponsors!  \n  \nRegistration
URL:https://ontariocycling.org/event/king-race-weekly-mtb-series-2/
LOCATION:Richmond Hill\, Richmond Hill\, Ontario\, Canada
CATEGORIES:Mountain Bike,Weekly Series
END:VEVENT
BEGIN:VEVENT
DTSTART;VALUE=DATE:20250902
DTEND;VALUE=DATE:20250903
DTSTAMP:20260420T152809
CREATED:20250715T185551Z
LAST-MODIFIED:20250715T185551Z
UID:10165-1756771200-1756857599@ontariocycling.org
SUMMARY:King Race Weekly MTB Series
DESCRIPTION:The King Race Series provides a friendly and competitive event for riders of all ages and abilities.  Join them weekly from April 29th to September 2nd at the Centennial Trails in King Township to improve your fitness\, skills\, and overall love for mountain biking. Enjoy weekly draw prizes\, demo bikes\, and guest sponsors!  \n  \nRegistration
URL:https://ontariocycling.org/event/king-race-weekly-mtb-series/
LOCATION:Richmond Hill\, Richmond Hill\, Ontario\, Canada
CATEGORIES:Mountain Bike,Weekly Series
END:VEVENT
BEGIN:VEVENT
DTSTART;TZID=UTC:20250827T190000
DTEND;TZID=UTC:20250827T220000
DTSTAMP:20260420T152809
CREATED:20250703T165601Z
LAST-MODIFIED:20250703T165601Z
UID:10082-1756321200-1756332000@ontariocycling.org
SUMMARY:Hardwood Wednesday Night MTB Races
DESCRIPTION:30 years as Ontario’s longest running and most popular weekly series!   \nWhether a returning or new rider\, an experienced or new racer\, we welcome you to the Hardwood Wednesday Night MTB Races. You can enter just one race\, do a few\, or the whole series. We welcome all ages and abilities and are dedicated to providing the most fun and family-oriented experience!   \nThe Wednesday Night Races will open with a Preview and Registration Night on April 30th. Come pick up your number plate\, in a more leisurely fashion\, and then go for a spin on your favorite (or soon to be favorite)\, course. After that\, Wednesday nights beginning May 7th through to Aug 27th\, we host a 17-week Mountain Bike race series\, starting at 7 pm each week.   \nThis is our longest running event which draws the greatest number of riders\, from young children participating in their first race experience\, to some of the best in Canada. Each week you choose your race course which can vary from the shorter and easier 6 km Fun course (or 2.5 km SprocKids Trail)\, to the highly technical 15 km Radical course with lots of climbing.   \nFull Series Entry gives you 17 races for the price of 12.   \n  \nRegistration
URL:https://ontariocycling.org/event/hardwood-wednesday-night-mtb-races-8/
LOCATION:Hardwood Ski and Bike\, 402 Old Barrie Rd W\, Oro Station\, Ontario\, L0L 2E0\, Canada
CATEGORIES:Mountain Bike,Weekly Series
ORGANIZER;CN="Pulse Racing":MAILTO:glenn@pulseracing.ca
END:VEVENT
BEGIN:VEVENT
DTSTART;VALUE=DATE:20250827
DTEND;VALUE=DATE:20250828
DTSTAMP:20260420T152809
CREATED:20250806T191715Z
LAST-MODIFIED:20250826T151328Z
UID:10340-1756252800-1756339199@ontariocycling.org
SUMMARY:Nordic Cats Cross Club Weekly Series
DESCRIPTION:August 27th to October 29th \nIf you’re a cyclist looking to sharpen your skills and have some fun\, you need to check out Nordic Cats! This weekly cyclocross race series\, held at Pete’s Windy Farm\, is the perfect way to get your heart pumping and prepare for the cyclocross season. \nEvery Wednesday from August 27th to October 29th\, you can hit the dirt\, grass\, and challenging terrain with other local cyclists. It’s a great opportunity to improve your technique\, build endurance\, and connect with the local cycling community. Whether you’re a seasoned racer or a curious beginner\, the course is designed to be fun and challenging for all skill levels. So grab your bike\, embrace the mud\, and join us for some action- packed Wednesday evenings!   \nPricing:   \n\nAdult Series – $85 (adults 19 years of age and older) \n\n\nFamily Series – $170 (pay for two adult registrations and kids under 19 are free within the same household) \n\n\nUnder 19 Series – $45 \n\n\nTry a Race / Pay-as-you-Roll – $20 per race (fee is applied to your season fee if you come back!)  \n\n  \nRegistration
URL:https://ontariocycling.org/event/nordic-cats-cross-club-weekly-series/
LOCATION:275445 27th Line\, 275445 27th Line\, Thamesford\, Ontario\, N0M 2M0\, Canada
CATEGORIES:Cyclo-Cross,Weekly Series
END:VEVENT
BEGIN:VEVENT
DTSTART;VALUE=DATE:20250819
DTEND;VALUE=DATE:20250820
DTSTAMP:20260420T152809
CREATED:20250416T212752Z
LAST-MODIFIED:20250715T185416Z
UID:7228-1755561600-1755647999@ontariocycling.org
SUMMARY:King Race Weekly MTB Series
DESCRIPTION:The King Race Series provides a friendly and competitive event for riders of all ages and abilities.  Join them weekly from April 29th to September 2nd at the Centennial Trails in King Township to improve your fitness\, skills\, and overall love for mountain biking. Enjoy weekly draw prizes\, demo bikes\, and guest sponsors!  \n  \nRegistration
URL:https://ontariocycling.org/event/king-race-weekly-mtb-series-2/
LOCATION:Richmond Hill\, Richmond Hill\, Ontario\, Canada
CATEGORIES:Mountain Bike,Weekly Series
END:VEVENT
BEGIN:VEVENT
DTSTART;TZID=UTC:20250826T173000
DTEND;TZID=UTC:20250826T210000
DTSTAMP:20260420T152809
CREATED:20250703T160950Z
LAST-MODIFIED:20250703T161203Z
UID:10073-1756229400-1756242000@ontariocycling.org
SUMMARY:Midweek Crit Series
DESCRIPTION:Bike racing returns to Tahoe and Buckhorn. Join Midweek Cycling Club every Tuesday evening this summer for their famous Criterium Series. \n  \n*NEW FOR 2025* The Midweek Crit is only available to purchase as 5 race series. \nRegistration \nCourse Map and Parking \nSERIES ONE FINAL RACE \nTue\, July 8 \nSign In Opens: 5:45 PM \nWomen: 7:00 PM \nEarly/B: 6:10 PM \nLate/A: 7:50 PM \n  \nSERIES 2 SCHEDULE \nTue\, July 22 \nSign In Opens: 5:30 PM \nWomen: 6:10 PM \nEarly/B: 7:00 PM \nLate/A: 7:50 PM \nTue\, July 29 \nSign In Opens: 5:45 PM \nWomen: 6:10 PM \nEarly/B: 7:00 PM \nLate/A: 7:50 PM \nTue\, Aug 5 \nSign In Opens: 5:45 PM \nWomen: 6:50 PM \nEarly/B: 6:10 PM \nLate/A: 7:30 PM \nTue\, Aug 12 \nSign In Opens: 5:45 PM \nWomen: 6:50 PM \nEarly/B: 6:10 PM \nLate/A: 7:30 PM \nTue\, Aug 19 \nSign In Opens: 5:45 PM \nWomen: 6:50 PM \nEarly/B: 6:10 PM \nLate/A: 7:30 PM
URL:https://ontariocycling.org/event/midweek-crit-series-2-2-2-2-2-2-2-2/
LOCATION:Tahoe Boulevard & Buckhorn Gate\, 1875 Buckhorn Gate\, Mississauga\, Ontario\, Canada
CATEGORIES:Road,Weekly Series
ORGANIZER;CN="Midweek Cycling Club":MAILTO:midweekcycling@gmail.com
END:VEVENT
BEGIN:VEVENT
DTSTART;VALUE=DATE:20250826
DTEND;VALUE=DATE:20250827
DTSTAMP:20260420T152809
CREATED:20250722T163609Z
LAST-MODIFIED:20250722T163609Z
UID:10222-1756166400-1756252799@ontariocycling.org
SUMMARY:Ottawa Tuesday Night Crits
DESCRIPTION:Live in the Ottawa area and are looking for something fun to do every Tuesday night this summer? Ride with Rendall hosts their Tuesday Night Crits every Tuesday from May 6th to August 26th at Tunneys Pasture Eglantine Driveway\, Ottawa\, ON K1A 0K9 \nBoth the A race and B race starts at 6:30PM. The A race will go for ~60 minutes + 5 laps. The B event run for ~45 minutes + 3 laps. Please note that race length may vary in August due to changes to daylight. This route is not a closed facility and there will be traffic and you must obey safety instructions from the organizers and course marshals. You will receive instructions on the night of each event about how to proceed. \nPlease note that registration closes every Sunday night at midnight before an event. \nCosts: \n\n\nAdult 18+ $160 for series \n\n\nAdult 18+ $25 single event \n\n\nUnder 18 $100 for series \n\n\nUnder 18 $20 single event \n\n\nRegistration \nCourse Maps
URL:https://ontariocycling.org/event/ottawa-tuesday-night-crits-6/
LOCATION:Tunneys Pasture Eglantine Driveway\, 45°24'18.5"N 75°44'28.7"W
CATEGORIES:Criterium,Weekly Series
END:VEVENT
BEGIN:VEVENT
DTSTART;VALUE=DATE:20250826
DTEND;VALUE=DATE:20250827
DTSTAMP:20260420T152809
CREATED:20250715T185504Z
LAST-MODIFIED:20250715T185504Z
UID:10164-1756166400-1756252799@ontariocycling.org
SUMMARY:King Race Weekly MTB Series
DESCRIPTION:The King Race Series provides a friendly and competitive event for riders of all ages and abilities.  Join them weekly from April 29th to September 2nd at the Centennial Trails in King Township to improve your fitness\, skills\, and overall love for mountain biking. Enjoy weekly draw prizes\, demo bikes\, and guest sponsors!  \n  \nRegistration
URL:https://ontariocycling.org/event/king-race-weekly-mtb-series-3/
LOCATION:Richmond Hill\, Richmond Hill\, Ontario\, Canada
CATEGORIES:Mountain Bike,Weekly Series
END:VEVENT
BEGIN:VEVENT
DTSTART;VALUE=DATE:20250513
DTEND;VALUE=DATE:20250514
DTSTAMP:20260420T152809
CREATED:20241119T201954Z
LAST-MODIFIED:20241119T201954Z
UID:6719-1747094400-1747180799@ontariocycling.org
SUMMARY:Midweek Cycling Club Weekly Series
DESCRIPTION:More information coming soon. \n  \nRegistration \nTech Guide
URL:https://ontariocycling.org/event/midweek-cycling-club-weekly-series-2025-05-13/
LOCATION:Ontario
CATEGORIES:Road
END:VEVENT
BEGIN:VEVENT
DTSTART;VALUE=DATE:20250520
DTEND;VALUE=DATE:20250521
DTSTAMP:20260420T152809
CREATED:20241119T201954Z
LAST-MODIFIED:20241119T201954Z
UID:6720-1747699200-1747785599@ontariocycling.org
SUMMARY:Midweek Cycling Club Weekly Series
DESCRIPTION:More information coming soon. \n  \nRegistration \nTech Guide
URL:https://ontariocycling.org/event/midweek-cycling-club-weekly-series-2025-05-20/
LOCATION:Ontario
CATEGORIES:Road
END:VEVENT
BEGIN:VEVENT
DTSTART;VALUE=DATE:20250527
DTEND;VALUE=DATE:20250528
DTSTAMP:20260420T152809
CREATED:20241119T201954Z
LAST-MODIFIED:20241119T201954Z
UID:6721-1748304000-1748390399@ontariocycling.org
SUMMARY:Midweek Cycling Club Weekly Series
DESCRIPTION:More information coming soon. \n  \nRegistration \nTech Guide
URL:https://ontariocycling.org/event/midweek-cycling-club-weekly-series-2025-05-27/
LOCATION:Ontario
CATEGORIES:Road
END:VEVENT
BEGIN:VEVENT
DTSTART;VALUE=DATE:20250603
DTEND;VALUE=DATE:20250604
DTSTAMP:20260420T152809
CREATED:20241119T201954Z
LAST-MODIFIED:20241119T201954Z
UID:6722-1748908800-1748995199@ontariocycling.org
SUMMARY:Midweek Cycling Club Weekly Series
DESCRIPTION:More information coming soon. \n  \nRegistration \nTech Guide
URL:https://ontariocycling.org/event/midweek-cycling-club-weekly-series-2025-06-03/
LOCATION:Ontario
CATEGORIES:Road
END:VEVENT
BEGIN:VEVENT
DTSTART;VALUE=DATE:20250610
DTEND;VALUE=DATE:20250611
DTSTAMP:20260420T152809
CREATED:20241119T201954Z
LAST-MODIFIED:20241119T201954Z
UID:6723-1749513600-1749599999@ontariocycling.org
SUMMARY:Midweek Cycling Club Weekly Series
DESCRIPTION:More information coming soon. \n  \nRegistration \nTech Guide
URL:https://ontariocycling.org/event/midweek-cycling-club-weekly-series-2025-06-10/
LOCATION:Ontario
CATEGORIES:Road
END:VEVENT
BEGIN:VEVENT
DTSTART;VALUE=DATE:20250617
DTEND;VALUE=DATE:20250618
DTSTAMP:20260420T152809
CREATED:20241119T201954Z
LAST-MODIFIED:20241119T201954Z
UID:6724-1750118400-1750204799@ontariocycling.org
SUMMARY:Midweek Cycling Club Weekly Series
DESCRIPTION:More information coming soon. \n  \nRegistration \nTech Guide
URL:https://ontariocycling.org/event/midweek-cycling-club-weekly-series-2025-06-17/
LOCATION:Ontario
CATEGORIES:Road
END:VEVENT
BEGIN:VEVENT
DTSTART;VALUE=DATE:20250624
DTEND;VALUE=DATE:20250625
DTSTAMP:20260420T152809
CREATED:20241119T201954Z
LAST-MODIFIED:20241119T201954Z
UID:6725-1750723200-1750809599@ontariocycling.org
SUMMARY:Midweek Cycling Club Weekly Series
DESCRIPTION:More information coming soon. \n  \nRegistration \nTech Guide
URL:https://ontariocycling.org/event/midweek-cycling-club-weekly-series-2025-06-24/
LOCATION:Ontario
CATEGORIES:Road
END:VEVENT
BEGIN:VEVENT
DTSTART;VALUE=DATE:20250701
DTEND;VALUE=DATE:20250702
DTSTAMP:20260420T152809
CREATED:20241119T201954Z
LAST-MODIFIED:20241119T201954Z
UID:6726-1751328000-1751414399@ontariocycling.org
SUMMARY:Midweek Cycling Club Weekly Series
DESCRIPTION:More information coming soon. \n  \nRegistration \nTech Guide
URL:https://ontariocycling.org/event/midweek-cycling-club-weekly-series-2025-07-01/
LOCATION:Ontario
CATEGORIES:Road
END:VEVENT
BEGIN:VEVENT
DTSTART;VALUE=DATE:20250708
DTEND;VALUE=DATE:20250709
DTSTAMP:20260420T152809
CREATED:20241119T201954Z
LAST-MODIFIED:20241119T201954Z
UID:6727-1751932800-1752019199@ontariocycling.org
SUMMARY:Midweek Cycling Club Weekly Series
DESCRIPTION:More information coming soon. \n  \nRegistration \nTech Guide
URL:https://ontariocycling.org/event/midweek-cycling-club-weekly-series-2025-07-08/
LOCATION:Ontario
CATEGORIES:Road
END:VEVENT
BEGIN:VEVENT
DTSTART;VALUE=DATE:20250715
DTEND;VALUE=DATE:20250716
DTSTAMP:20260420T152809
CREATED:20241119T201954Z
LAST-MODIFIED:20241119T201954Z
UID:6728-1752537600-1752623999@ontariocycling.org
SUMMARY:Midweek Cycling Club Weekly Series
DESCRIPTION:More information coming soon. \n  \nRegistration \nTech Guide
URL:https://ontariocycling.org/event/midweek-cycling-club-weekly-series-2025-07-15/
LOCATION:Ontario
CATEGORIES:Road
END:VEVENT
BEGIN:VEVENT
DTSTART;VALUE=DATE:20250722
DTEND;VALUE=DATE:20250723
DTSTAMP:20260420T152809
CREATED:20241119T201954Z
LAST-MODIFIED:20241119T201954Z
UID:6729-1753142400-1753228799@ontariocycling.org
SUMMARY:Midweek Cycling Club Weekly Series
DESCRIPTION:More information coming soon. \n  \nRegistration \nTech Guide
URL:https://ontariocycling.org/event/midweek-cycling-club-weekly-series-2025-07-22/
LOCATION:Ontario
CATEGORIES:Road
END:VEVENT
BEGIN:VEVENT
DTSTART;VALUE=DATE:20250729
DTEND;VALUE=DATE:20250730
DTSTAMP:20260420T152809
CREATED:20241119T201954Z
LAST-MODIFIED:20241119T201954Z
UID:6730-1753747200-1753833599@ontariocycling.org
SUMMARY:Midweek Cycling Club Weekly Series
DESCRIPTION:More information coming soon. \n  \nRegistration \nTech Guide
URL:https://ontariocycling.org/event/midweek-cycling-club-weekly-series-2025-07-29/
LOCATION:Ontario
CATEGORIES:Road
END:VEVENT
BEGIN:VEVENT
DTSTART;VALUE=DATE:20250805
DTEND;VALUE=DATE:20250806
DTSTAMP:20260420T152809
CREATED:20241119T201954Z
LAST-MODIFIED:20241119T201954Z
UID:6731-1754352000-1754438399@ontariocycling.org
SUMMARY:Midweek Cycling Club Weekly Series
DESCRIPTION:More information coming soon. \n  \nRegistration \nTech Guide
URL:https://ontariocycling.org/event/midweek-cycling-club-weekly-series-2025-08-05/
LOCATION:Ontario
CATEGORIES:Road
END:VEVENT
BEGIN:VEVENT
DTSTART;VALUE=DATE:20250812
DTEND;VALUE=DATE:20250813
DTSTAMP:20260420T152809
CREATED:20241119T201954Z
LAST-MODIFIED:20241119T201954Z
UID:6732-1754956800-1755043199@ontariocycling.org
SUMMARY:Midweek Cycling Club Weekly Series
DESCRIPTION:More information coming soon. \n  \nRegistration \nTech Guide
URL:https://ontariocycling.org/event/midweek-cycling-club-weekly-series-2025-08-12/
LOCATION:Ontario
CATEGORIES:Road
END:VEVENT
BEGIN:VEVENT
DTSTART;VALUE=DATE:20250819
DTEND;VALUE=DATE:20250820
DTSTAMP:20260420T152809
CREATED:20241119T201954Z
LAST-MODIFIED:20241119T201954Z
UID:6733-1755561600-1755647999@ontariocycling.org
SUMMARY:Midweek Cycling Club Weekly Series
DESCRIPTION:More information coming soon. \n  \nRegistration \nTech Guide
URL:https://ontariocycling.org/event/midweek-cycling-club-weekly-series-2025-08-19/
LOCATION:Ontario
CATEGORIES:Road
END:VEVENT
BEGIN:VEVENT
DTSTART;VALUE=DATE:20250826
DTEND;VALUE=DATE:20250827
DTSTAMP:20260420T152809
CREATED:20241119T201954Z
LAST-MODIFIED:20241119T201954Z
UID:6734-1756166400-1756252799@ontariocycling.org
SUMMARY:Midweek Cycling Club Weekly Series
DESCRIPTION:More information coming soon. \n  \nRegistration \nTech Guide
URL:https://ontariocycling.org/event/midweek-cycling-club-weekly-series-2025-08-26/
LOCATION:Ontario
CATEGORIES:Road
END:VEVENT
BEGIN:VEVENT
DTSTART;VALUE=DATE:20250823
DTEND;VALUE=DATE:20250824
DTSTAMP:20260420T152809
CREATED:20250703T214542Z
LAST-MODIFIED:20250703T214542Z
UID:10105-1755907200-1755993599@ontariocycling.org
SUMMARY:XCM Canadian Championships
DESCRIPTION:Northern Ontario’s premiere mountain bike event. The XCM Canadian Championship Presented by Tbaytel is a week long celebration of Thunder Bay’s mountain biking trails located at Kinsmen Park in the beautiful Trowbridge Forest.  \n  \nRegistration \n  \n 
URL:https://ontariocycling.org/event/xcm-canadian-championships/
LOCATION:16 Copenhagen Road\, 16 Copenhagen Road\, Thunder Bay\, Ontario\, P7B 6B3\, Canada
CATEGORIES:Mountain Bike
END:VEVENT
END:VCALENDAR