BEGIN:VCALENDAR
VERSION:2.0
PRODID:-//ONTARIO CYCLING - ECPv6.15.20//NONSGML v1.0//EN
CALSCALE:GREGORIAN
METHOD:PUBLISH
X-ORIGINAL-URL:https://ontariocycling.org
X-WR-CALDESC:Events for ONTARIO CYCLING
REFRESH-INTERVAL;VALUE=DURATION:PT1H
X-Robots-Tag:noindex
X-PUBLISHED-TTL:PT1H
BEGIN:VTIMEZONE
TZID:America/Toronto
BEGIN:DAYLIGHT
TZOFFSETFROM:-0500
TZOFFSETTO:-0400
TZNAME:EDT
DTSTART:20230312T070000
END:DAYLIGHT
BEGIN:STANDARD
TZOFFSETFROM:-0400
TZOFFSETTO:-0500
TZNAME:EST
DTSTART:20231105T060000
END:STANDARD
BEGIN:DAYLIGHT
TZOFFSETFROM:-0500
TZOFFSETTO:-0400
TZNAME:EDT
DTSTART:20240310T070000
END:DAYLIGHT
BEGIN:STANDARD
TZOFFSETFROM:-0400
TZOFFSETTO:-0500
TZNAME:EST
DTSTART:20241103T060000
END:STANDARD
BEGIN:DAYLIGHT
TZOFFSETFROM:-0500
TZOFFSETTO:-0400
TZNAME:EDT
DTSTART:20250309T070000
END:DAYLIGHT
BEGIN:STANDARD
TZOFFSETFROM:-0400
TZOFFSETTO:-0500
TZNAME:EST
DTSTART:20251102T060000
END:STANDARD
END:VTIMEZONE
BEGIN:VEVENT
DTSTART;VALUE=DATE:20240913
DTEND;VALUE=DATE:20240916
DTSTAMP:20260423T124849
CREATED:20231107T203031Z
LAST-MODIFIED:20231107T203031Z
UID:3410-1726185600-1726444799@ontariocycling.org
SUMMARY:Road - 2024 Grand Prix Cyclistes de Montreal - Montreal\, QC
DESCRIPTION:More information coming soon.
URL:https://ontariocycling.org/event/24-grandprix-mtl/
LOCATION:Ontario
CATEGORIES:Road
ATTACH;FMTTYPE=image/png:https://ontariocycling.org/wp-content/uploads/2022/08/News-Articles-1.png
END:VEVENT
BEGIN:VEVENT
DTSTART;TZID=America/Toronto:20240914T080000
DTEND;TZID=America/Toronto:20240914T170000
DTSTAMP:20260423T124849
CREATED:20240513T180955Z
LAST-MODIFIED:20240513T180955Z
UID:4816-1726300800-1726333200@ontariocycling.org
SUMMARY:Road - HunTer Fondo - Peterborough\, ON
DESCRIPTION:The 2024 HunTer Fondo will again offer four different distances\, but with in a choose-your-own-adventure plus a game within the ride. \n\nJoin us for a thrilling cycling experience in the picturesque landscapes of Peterborough and play a game of Poker! \nThe HunTer Fondo is not just another charity ride; it’s a celebration of John Hunter\, a legendary cycling enthusiast renowned for his challenging rides and getting people out riding. \n\nHosted at 100 Acre Brewing Co.\nLunch provided by Ashburnham Ale House\nSupport stations at Pastry Peddler and Sprinkle n’ Things\n4 different routes!\nGreat prizes for best poker hand\, Strava segments\, and draw prizes\nFundraiser in support of PRHC Foundation and Campbellford Memorial Hospital Foundation for cardiac and emergency care\n\n  \nJohn Hunter\n \nJohn Hunter passed away 2021 and we miss him. Charlie at Fretori put it best. \n“John Hunter passed away on Sunday. Far too early. He was the best friend anyone could have. He was a mentor\, a friend and employer. He taught me about sales\, business\, the bike industry and two weeks ago he taught me how to use a crowbar better. If I ever needed advice\, I could call him and the conversation was always a good one\, and the advice was even better\, filled with the perfect balance of seriousness and sarcasm and dad jokes. John’s dad jokes were the best\, everyone knows that. \nHis energy was infectious and his attitude made you want to be a better person. Just being around John was good for the soul.\nI did not even like beer but drinking a beer with John\, it tasted good. \nJohn loved to get people out riding. Once he got you hooked on riding\, he wanted you to ride hard and challenge yourself. \nThis is what our Fondo is about – a ride\, good food\, sharing a beer with old and new friends and making a positive impact on our community by supporting our local healthcare. \nA day for that will be good for your soul and hopefully encouraging you to take a bigger bite than you are comfortable and embrace whatever is comes your way on the day. \n\nRegistration \nTech Guide
URL:https://ontariocycling.org/event/road-hunter-fondo/
LOCATION:Ontario
CATEGORIES:Road
END:VEVENT
END:VCALENDAR