BEGIN:VCALENDAR
VERSION:2.0
PRODID:-//ONTARIO CYCLING - ECPv6.15.17.1//NONSGML v1.0//EN
CALSCALE:GREGORIAN
METHOD:PUBLISH
X-WR-CALNAME:ONTARIO CYCLING
X-ORIGINAL-URL:https://ontariocycling.org
X-WR-CALDESC:Events for ONTARIO CYCLING
REFRESH-INTERVAL;VALUE=DURATION:PT1H
X-Robots-Tag:noindex
X-PUBLISHED-TTL:PT1H
BEGIN:VTIMEZONE
TZID:UTC
BEGIN:STANDARD
TZOFFSETFROM:+0000
TZOFFSETTO:+0000
TZNAME:UTC
DTSTART:20240101T000000
END:STANDARD
END:VTIMEZONE
BEGIN:VTIMEZONE
TZID:America/Toronto
BEGIN:DAYLIGHT
TZOFFSETFROM:-0500
TZOFFSETTO:-0400
TZNAME:EDT
DTSTART:20250309T070000
END:DAYLIGHT
BEGIN:STANDARD
TZOFFSETFROM:-0400
TZOFFSETTO:-0500
TZNAME:EST
DTSTART:20251102T060000
END:STANDARD
BEGIN:DAYLIGHT
TZOFFSETFROM:-0500
TZOFFSETTO:-0400
TZNAME:EDT
DTSTART:20260308T070000
END:DAYLIGHT
BEGIN:STANDARD
TZOFFSETFROM:-0400
TZOFFSETTO:-0500
TZNAME:EST
DTSTART:20261101T060000
END:STANDARD
BEGIN:DAYLIGHT
TZOFFSETFROM:-0500
TZOFFSETTO:-0400
TZNAME:EDT
DTSTART:20270314T070000
END:DAYLIGHT
BEGIN:STANDARD
TZOFFSETFROM:-0400
TZOFFSETTO:-0500
TZNAME:EST
DTSTART:20271107T060000
END:STANDARD
END:VTIMEZONE
BEGIN:VEVENT
DTSTART;VALUE=DATE:20251004
DTEND;VALUE=DATE:20251005
DTSTAMP:20260420T014749
CREATED:20250716T220614Z
LAST-MODIFIED:20250922T153026Z
UID:10180-1759536000-1759622399@ontariocycling.org
SUMMARY:Wolfe Island Gravel Grinder
DESCRIPTION:The Wolfe Island Gravel Grinder is a scenic and spirited mass-start gravel ride designed for cyclists of all levels. Hosted on the beautiful roads of Wolfe Island\, this non-competitive sportif features two fully marked route options—40 km and 75 km—winding through waterfront vistas\, open farmland\, and historic island roads. This is not a race\, but a celebration of gravel riding\, personal challenge\, and community connection. Join fellow enthusiasts for an unforgettable day on the bike\, followed by post-ride refreshments and camaraderie at the Wolfe Island Hotel. \n  \nRegistration (Closes on Wednesday October 1st @11:59pm)
URL:https://ontariocycling.org/event/wolfe-island-gravel-grinder/
LOCATION:Wolfe Island\, Frontenac Islands\, Frontenac\, Ontario\, K0H 2Y0\, Canada
CATEGORIES:Gravel
ORGANIZER;CN="Limestone":MAILTO:info@limestonecitycycling.ca
END:VEVENT
BEGIN:VEVENT
DTSTART;VALUE=DATE:20260419
DTEND;VALUE=DATE:20260420
DTSTAMP:20260420T014749
CREATED:20251128T165928Z
LAST-MODIFIED:20260416T192318Z
UID:10818-1776556800-1776643199@ontariocycling.org
SUMMARY:Road OCup #1 Clarence Rockland Classic - Gravel
DESCRIPTION:Organized by Ride with Rendall\, in cooperation with the City of Clarence Rockland\, sanctioned by Ontario Cycling. \nRide with Rendall presents the 14th annual Clarence-Rockland Classic\, an Ontario Cup Gravel race inspired by the spirit of the European spring classics. The event will start and finish in St. Pascal-Baylon and will feature three ride options to encourage broader participation: 110km Classic race\, 55km Challenge ride\, and 28km Mini ride. All routes will include a mix of gravel and paved roads (67% Township\, 33% paved)\, taking riders through the scenic Clarence-Rockland Township\, with every course finishing in St.Pascal-Baylon. \n  \nDate: Sunday April 19 \nLocation: Ronald Lalonde Community Hall\, 2564 St. Pascal Rd\, St. Pascal-Baylon\, ON K0A 3N0. \nParking & Washrooms: \n\nParking will be available at Ronald Lalonde Community Hall.\nWashrooms will be available inside the recreation centre. Portable washrooms will also be onsite.\nPlease respect the venue and clean up after yourself. This includes any mud tracked inside.\nNo bikes inside the community centre.\n\n \nCategories & Pricing \n\n\n\nWave\nTime\nCategory \nAge as of Dec 31 2026\nDistance\nRegistration Fee \nCloses Wed Apr 15\n\n\n1\n10:00am\nCat A 15+\n110km Classic\n$75 ($20 U19)\n\n\nCat B 15+\n\n\nCat C 15+\n\n\n2*\n10:05am*\nCat A Women 15+\n110km Classic\n$75 ($20 U19)\n\n\nCat B Women 15+\n55km Challenge\n$65 ($20 U19)\n\n\nMaster Women 40+\n$65\n\n\nU15 Women (13-14)\n$20\n\n\n3\n10:10am\nMaster Men 50+\n55km Challenge\n$65\n\n\nCat D 15+\n$65 ($20 U19)\n\n\nU15 Men (13-14)\n$20\n\n\n4\n10:12am\nOpen Non-OCup (8+)\n28km Mini\n$35 ($20 U19)\n\n\n\n  \n*Women will have a separate start if there are 25 riders or more registered\, an additional police vehicle has been granted for this start.  If less than 25\, women will start with the men in their respective distance start wave. \n  \nRegistration \nTech Guide (V3 April 16th) \nFor any event inquiries please email cheney_jason@hotmail.com \n 
URL:https://ontariocycling.org/event/road-ocup-1-clarence-rockland-classic-gravel/
LOCATION:Ronald Lalonde Community Hall\, 2564 St. Pascal Rd\, St. Pascal-Baylon\, Ontario\, K0A 3N0\, Canada
CATEGORIES:Gravel
END:VEVENT
BEGIN:VEVENT
DTSTART;VALUE=DATE:20260426
DTEND;VALUE=DATE:20260427
DTSTAMP:20260420T014749
CREATED:20251128T165942Z
LAST-MODIFIED:20260313T124545Z
UID:10823-1777161600-1777247999@ontariocycling.org
SUMMARY:Almonte Paris - Roubaix
DESCRIPTION:Like its inspiration\, the 35th Ottawa Valley Almonte Paris Roubaix Cyclosportif mixes well paved roads with abominations. The route includes mud\, gravel\, sand\, rocks\, unmaintained roads\, woodlots and one switchback climb. The classic route is about 80 kilometers. A shorter 40 km is an option for riders and includes 3 woodlots. Note: Riders aged 11 to 16 (turning 11 to 16 in 2026) are eligible to ride only the 40 km route\, and must have an adult riding with them\, or be in a preorganized group with at least one adult. U19 riders (turning 17 or 18 in 2026) may ride the long course. This is a cyclosportif ride\, not a race. The roads are open to other users. All traffic laws\, including stopping at stop signs and staying to the right\, apply to all riders at all times. Marshals may stop or delay riders for safety reasons. Any rider who disobeys their instructions will be immediately removed from the event. There will be no motorized support\, partly because some of the roads are not passable for motor vehicles. We strongly recommend that riders choose cycling equipment for its robustness\, not its lightness. Any kind of bicycle may be used\, although gravel/cyclocross bikes with large section road tires (at least 28 mm wide) are generally the best choice. Fixed gear bicycles must be equipped with at least a front working brake as is required under the Highway Traffic Act. Tri Bars are not allowed – you can’t go all Ted King here. It is each rider’s personal responsibility to ensure that their bicycle is legal and safe for road use in Ontario.  \n  \nRegistration \nTech Guide \nFor any event inquiries please email p_schuck@sympatico.ca
URL:https://ontariocycling.org/event/almonte-paris-roubaix/
CATEGORIES:Gravel
END:VEVENT
BEGIN:VEVENT
DTSTART;VALUE=DATE:20260426
DTEND;VALUE=DATE:20260427
DTSTAMP:20260420T014749
CREATED:20251128T170137Z
LAST-MODIFIED:20260410T182641Z
UID:10822-1777161600-1777247999@ontariocycling.org
SUMMARY:Paris to Ancaster
DESCRIPTION:Inspired by the legendary Paris-Roubaix\, the Paris to Ancaster race takes place in the scenic landscapes of Ontario\, Canada. Since 1994\, this iconic event has challenged riders with farm lanes\, trails\, and gravel roads designed to test every cyclist’s grit. \n  \nThinking of bringing your kids? Let them join in on the fun with the Kids “Let’s Ride!” Course. Click here to learn more \n  \nRegistration \n\nRegular registration closes at 11:59 PM on April 19th\, 2026. While online registration remains open until this date\, late fees apply starting March 30\, 2026\n\n\nFor any event inquiries please email info@multisportcanada.com
URL:https://ontariocycling.org/event/paris-to-ancaster/
CATEGORIES:Gravel
END:VEVENT
BEGIN:VEVENT
DTSTART;VALUE=DATE:20260509
DTEND;VALUE=DATE:20260510
DTSTAMP:20260420T014749
CREATED:20260206T195808Z
LAST-MODIFIED:20260206T195808Z
UID:11124-1778284800-1778371199@ontariocycling.org
SUMMARY:Turas Mór Gravel Gran Fondo
DESCRIPTION:More information coming soon. \n  \nRegistration (Coming Soon)
URL:https://ontariocycling.org/event/turas-mor-gravel-gran-fondo/
LOCATION:Creemore\, 139 Mill S\, Creemore\, Ontario\, L0M 1G0\, Canada
CATEGORIES:Gravel
END:VEVENT
BEGIN:VEVENT
DTSTART;VALUE=DATE:20260524
DTEND;VALUE=DATE:20260525
DTSTAMP:20260420T014749
CREATED:20251128T170218Z
LAST-MODIFIED:20260311T113723Z
UID:10825-1779580800-1779667199@ontariocycling.org
SUMMARY:Melrose Gravel Tour
DESCRIPTION:Melrose gravel is back with our fourth annual event. This year we have added a new route for those interested in a shorter option\, (35km). The original 80k/50k routes remain. The nice roads and nasty ATV trails are still there to be conquered!  \n  \nRegistration \nTech Guide \n  \nFor any event inquiries please email lforbes3@cogeco.ca
URL:https://ontariocycling.org/event/melrose-gravel-tour/
CATEGORIES:Gravel
END:VEVENT
BEGIN:VEVENT
DTSTART;VALUE=DATE:20260531
DTEND;VALUE=DATE:20260601
DTSTAMP:20260420T014749
CREATED:20260402T115825Z
LAST-MODIFIED:20260413T122152Z
UID:11303-1780185600-1780271999@ontariocycling.org
SUMMARY:100 Acre Gravel Race
DESCRIPTION:100 Acre Gravel Race brings together the competition and thrill of road racing with the spirit and challenge of gravel for an unforgettable riding experience. Take in the beauty of Peterborough County on partially closed roads and paths and finish your day at a picturesque farmhouse brewery. \nA gravel or cyclocross bike will be the best option but the course is totally rideable on a road bike. \nTwo epic routes to choose from with rolling hills and punchy climbs\, passing through the historic Lang Pioneer Village\, downtown Hastings\, and along the shores of Rice Lake. Post race celebrations hosted at 100 Acre Brewing Co. will honour riders for their accomplishments with podium ceremonies and awards for a wide range of categories. \n  \nRegistration \nTech Guide
URL:https://ontariocycling.org/event/100-acre-gravel-race/
LOCATION:100 Acre Brewing Company\, 390 Ashburnham Drive\, Peterborough\, Ontario\, K9L 0C8\, Canada
CATEGORIES:Gravel,Regional
END:VEVENT
BEGIN:VEVENT
DTSTART;VALUE=DATE:20260926
DTEND;VALUE=DATE:20260927
DTSTAMP:20260420T014749
CREATED:20251128T165813Z
LAST-MODIFIED:20251128T165813Z
UID:10854-1790380800-1790467199@ontariocycling.org
SUMMARY:Wolfe Island Gravel Grinder
DESCRIPTION:More information coming soon. \n  \nRegistration (Coming Soon) \n  \nFor any event inquiries please email dm23@queensu.ca
URL:https://ontariocycling.org/event/wolfe-island-gravel-grinder-2/
LOCATION:Wolfe Island\, Frontenac Islands\, Frontenac\, Ontario\, K0H 2Y0\, Canada
CATEGORIES:Gravel
END:VEVENT
END:VCALENDAR