BEGIN:VCALENDAR
VERSION:2.0
PRODID:-//ONTARIO CYCLING - ECPv6.15.17.1//NONSGML v1.0//EN
CALSCALE:GREGORIAN
METHOD:PUBLISH
X-ORIGINAL-URL:https://ontariocycling.org
X-WR-CALDESC:Events for ONTARIO CYCLING
REFRESH-INTERVAL;VALUE=DURATION:PT1H
X-Robots-Tag:noindex
X-PUBLISHED-TTL:PT1H
BEGIN:VTIMEZONE
TZID:America/Toronto
BEGIN:DAYLIGHT
TZOFFSETFROM:-0500
TZOFFSETTO:-0400
TZNAME:EDT
DTSTART:20250309T070000
END:DAYLIGHT
BEGIN:STANDARD
TZOFFSETFROM:-0400
TZOFFSETTO:-0500
TZNAME:EST
DTSTART:20251102T060000
END:STANDARD
BEGIN:DAYLIGHT
TZOFFSETFROM:-0500
TZOFFSETTO:-0400
TZNAME:EDT
DTSTART:20260308T070000
END:DAYLIGHT
BEGIN:STANDARD
TZOFFSETFROM:-0400
TZOFFSETTO:-0500
TZNAME:EST
DTSTART:20261101T060000
END:STANDARD
BEGIN:DAYLIGHT
TZOFFSETFROM:-0500
TZOFFSETTO:-0400
TZNAME:EDT
DTSTART:20270314T070000
END:DAYLIGHT
BEGIN:STANDARD
TZOFFSETFROM:-0400
TZOFFSETTO:-0500
TZNAME:EST
DTSTART:20271107T060000
END:STANDARD
END:VTIMEZONE
BEGIN:VEVENT
DTSTART;TZID=America/Toronto:20260519T190000
DTEND;TZID=America/Toronto:20260519T203000
DTSTAMP:20260420T044507
CREATED:20260327T154418Z
LAST-MODIFIED:20260331T163844Z
UID:11277-1779217200-1779222600@ontariocycling.org
SUMMARY:Women's Month Ride Leader Training Info Session
DESCRIPTION:Date: May 19th\nTime: 7:00pm\nDuration (Est): 60 Mins\nDiscipline Focus: Road/Gravel\n\nInformation:\nJoin OC Membership Services Manager Chris Baskys and Ride Leader Training Expert Amy White as Amy discusses some important items potential Ride Leaders need to know about running group road/gravel activities. Note: This webinar is only open to members of OC-affiliated clubs and/or teams.\n\nNote: \n\nMaximum 30 registrants\nMust be an OC member to be eligible for entry to the info session. Those registered who are not OC members will not be admitted into the info session room.\nThe webinar will be recorded and a link to the webinar recording will be provided to those who register within a few days of the webinar’s completion.\n\n\n\nRegistration\n\n\nPlease contact info@ontariocycling.org with any questions.
URL:https://ontariocycling.org/event/womens-month-ride-leader-training-info-session/
CATEGORIES:Education,Ontario Women's Cycling,Virtual
END:VEVENT
BEGIN:VEVENT
DTSTART;TZID=America/Toronto:20260520T173000
DTEND;TZID=America/Toronto:20260520T190000
DTSTAMP:20260420T044507
CREATED:20260326T172131Z
LAST-MODIFIED:20260327T152408Z
UID:11265-1779298200-1779303600@ontariocycling.org
SUMMARY:Fueling the Change: Nutrition for Peri-Menopause\, Menopause & Beyond
DESCRIPTION:Hosted By Nicole Springle \nAs your body changes\, your performance doesn’t have to. This webinar is designed for women cyclists who want to confidently navigate peri-menopause\, menopause\, and post-menopause while continuing to train\, perform\, and enjoy the ride. Learn evidence-based nutrition strategies to support energy\, recovery\, strength\, and endurance through hormonal change. Whether you ride recreationally or compete\, you’ll gain clear\, actionable guidance to help you fuel smarter\, stay strong\, and continue performing at your best. \n\n\n\n\n\n  \nKey Takeaways: \n\nHow hormonal changes impact training\, recovery\, and performance\nNutrition strategies to support energy\, muscle maintenance\, and endurance\nPractical fueling approaches for before\, during\, and after rides\nKey nutrients to prioritize for bone health\, metabolism\, and longevity\nReal-life tips tailored for busy\, active women balancing sport and life\n\n  \nJoin us to ride stronger\, feel better\, and stay confident in your performance—at every stage. \nRegistration  \n\n\n\n\n\n  \nAbout Nicole:\nNicole Springle\, MAN\, RD\, ISAK L2\, HPC (She/Her) \nHigh Performance Certified Registered Dietitian \nNicole has spent the past 15 years working inside Canada’s high-performance sport system\, supporting elite athletes on their journey to the podium. She was the first full-time sport dietitian at the Canadian Sport Institute Ontario\, where she led the development of their Sport Nutrition Department\, and later served as the National Lead of Sport Nutrition for Own the Podium overseeing all high-performance sport dietitians across Canada. \nHer resume includes hands-on work with some of Canada’s top athletes and teams. Most recently\, she was the lead nutritionist for the Canadian National Beach Volleyball Team (Silver medal\, Paris 2024 Olympics) and the Canadian National Track Cycling Team (Gold medal\, Tokyo 2020 Olympics). Nicole knows exactly what it takes to perform—and win—on the world stage. Nicole specializes in fueling strength and power athletes\, with extensive experience supporting both provincial and national teams across a range of sports which have also included swimming\, rowing\, wheelchair basketball\, golf\, figure skating\, and Nordic skiing. Her sport-specific strategies are designed to help athletes train harder\, recover faster\, and compete at their peak. Her approach is rooted in science\, shaped by elite sport experience\, and tailored to individual needs and goals.
URL:https://ontariocycling.org/event/fueling-the-change-nutrition-for-peri-menopause-menopause-beyond/
CATEGORIES:Education,Ontario Women's Cycling,Virtual
END:VEVENT
END:VCALENDAR