BEGIN:VCALENDAR
VERSION:2.0
PRODID:-//ONTARIO CYCLING - ECPv6.15.17.1//NONSGML v1.0//EN
CALSCALE:GREGORIAN
METHOD:PUBLISH
X-WR-CALNAME:ONTARIO CYCLING
X-ORIGINAL-URL:https://ontariocycling.org
X-WR-CALDESC:Events for ONTARIO CYCLING
REFRESH-INTERVAL;VALUE=DURATION:PT1H
X-Robots-Tag:noindex
X-PUBLISHED-TTL:PT1H
BEGIN:VTIMEZONE
TZID:America/Toronto
BEGIN:DAYLIGHT
TZOFFSETFROM:-0500
TZOFFSETTO:-0400
TZNAME:EDT
DTSTART:20250309T070000
END:DAYLIGHT
BEGIN:STANDARD
TZOFFSETFROM:-0400
TZOFFSETTO:-0500
TZNAME:EST
DTSTART:20251102T060000
END:STANDARD
BEGIN:DAYLIGHT
TZOFFSETFROM:-0500
TZOFFSETTO:-0400
TZNAME:EDT
DTSTART:20260308T070000
END:DAYLIGHT
BEGIN:STANDARD
TZOFFSETFROM:-0400
TZOFFSETTO:-0500
TZNAME:EST
DTSTART:20261101T060000
END:STANDARD
BEGIN:DAYLIGHT
TZOFFSETFROM:-0500
TZOFFSETTO:-0400
TZNAME:EDT
DTSTART:20270314T070000
END:DAYLIGHT
BEGIN:STANDARD
TZOFFSETFROM:-0400
TZOFFSETTO:-0500
TZNAME:EST
DTSTART:20271107T060000
END:STANDARD
END:VTIMEZONE
BEGIN:VEVENT
DTSTART;VALUE=DATE:20260905
DTEND;VALUE=DATE:20260906
DTSTAMP:20260420T063155
CREATED:20251128T170231Z
LAST-MODIFIED:20251128T170231Z
UID:10849-1788566400-1788652799@ontariocycling.org
SUMMARY:Canadian XCM Championships
DESCRIPTION:More information coming soon. \n  \nRegistration (Coming Soon) \n  \nFor any event inquiries please email info@saultcyclingclub.ca
URL:https://ontariocycling.org/event/canadian-xcm-championships/
LOCATION:Sault Ste. Marie\, Sault Ste. Marie\, Ontario\, Canada
CATEGORIES:Mountain Bike
END:VEVENT
BEGIN:VEVENT
DTSTART;VALUE=DATE:20260905
DTEND;VALUE=DATE:20260906
DTSTAMP:20260420T063156
CREATED:20260408T190442Z
LAST-MODIFIED:20260410T134121Z
UID:11319-1788566400-1788652799@ontariocycling.org
SUMMARY:Prince Edward County Gran Fondo
DESCRIPTION:The County Gran Fondo is Prince Edward County’s premier cycling weekend — a beautifully scenic road cycling event set among vineyards\, charming villages\, and quiet country roads in Ontario’s favourite wine region. \nThe County Gran Fondo\nChoose from 50 km\, 100 km\, or 150 km routes and experience some of the best road cycling in Ontario. Starting from Isaiah Tubbs Resort on West Lake\, riders cruise through Sandbanks Provincial Park\, roll past vineyard-lined roads\, visit the communities of Milford\, Picton\, and Wellington\, and enjoy long stretches of peaceful countryside in between. \nWith exceptional rider support\, well-marked routes\, rest stops\, and a lively post-ride celebration\, the Gran Fondo is known for its welcoming atmosphere\, strong sense of camaraderie\, and unforgettable setting. \nThe Slow Food Ride\nA shorter\, relaxed\, and social cycling experience designed for families\, friends\, and foodies alike. This casual 30 km ride that highlights some of the County’s best vineyards with curated stops for local food and wine tastings\, offering a delicious way to explore Prince Edward County by bike. \nCyclists have long known what makes this region special: quiet roads\, rolling terrain\, stunning lake views\, and a vibrant food and wine culture that makes every ride memorable. \n\n\n\n\n\n\n\n\n\n\n  \nRegistration (Coming Soon) \nEvent Website
URL:https://ontariocycling.org/event/prince-edward-county-gran-fondo/
LOCATION:Prince Edward County\, Prince Edward County
END:VEVENT
END:VCALENDAR