BEGIN:VCALENDAR
VERSION:2.0
PRODID:-//ONTARIO CYCLING - ECPv6.15.20//NONSGML v1.0//EN
CALSCALE:GREGORIAN
METHOD:PUBLISH
X-WR-CALNAME:ONTARIO CYCLING
X-ORIGINAL-URL:https://ontariocycling.org
X-WR-CALDESC:Events for ONTARIO CYCLING
REFRESH-INTERVAL;VALUE=DURATION:PT1H
X-Robots-Tag:noindex
X-PUBLISHED-TTL:PT1H
BEGIN:VTIMEZONE
TZID:America/Toronto
BEGIN:DAYLIGHT
TZOFFSETFROM:-0500
TZOFFSETTO:-0400
TZNAME:EDT
DTSTART:20250309T070000
END:DAYLIGHT
BEGIN:STANDARD
TZOFFSETFROM:-0400
TZOFFSETTO:-0500
TZNAME:EST
DTSTART:20251102T060000
END:STANDARD
BEGIN:DAYLIGHT
TZOFFSETFROM:-0500
TZOFFSETTO:-0400
TZNAME:EDT
DTSTART:20260308T070000
END:DAYLIGHT
BEGIN:STANDARD
TZOFFSETFROM:-0400
TZOFFSETTO:-0500
TZNAME:EST
DTSTART:20261101T060000
END:STANDARD
BEGIN:DAYLIGHT
TZOFFSETFROM:-0500
TZOFFSETTO:-0400
TZNAME:EDT
DTSTART:20270314T070000
END:DAYLIGHT
BEGIN:STANDARD
TZOFFSETFROM:-0400
TZOFFSETTO:-0500
TZNAME:EST
DTSTART:20271107T060000
END:STANDARD
END:VTIMEZONE
BEGIN:VEVENT
DTSTART;TZID=America/Toronto:20260507T173000
DTEND;TZID=America/Toronto:20260507T190000
DTSTAMP:20260424T150600
CREATED:20260331T190308Z
LAST-MODIFIED:20260401T144810Z
UID:11283-1778175000-1778180400@ontariocycling.org
SUMMARY:A Clinical Approach to Bike Fitting: Key Considerations for Women - Webinar with Kyle Rempel
DESCRIPTION:A Clinical Approach to Bike Fitting: Key Considerations for Women \nJoin Kyle Rempel for an educational seminar exploring the clinical foundations of comfort\, efficiency\, and performance for the female cyclist. \nThe Bicycle Fit Lab is a leader in evidence-based bike fitting and rider assessment. We are excited to present this educational seminar designed to empower women with a deeper understanding of the bike fitting process and how it specifically applies to the female cyclist. \nThis session will highlight the key anatomical\, functional\, and performance-related factors that influence fit\, helping riders better understand how a more comfortable\, efficient\, and sustainable position on the bike can be achieved. \nWhether you are a recreational rider or competitive cyclist\, this seminar will provide valuable insight into the clinical approach to bike fitting and how it can enhance the overall cycling experience. \nRegistration
URL:https://ontariocycling.org/event/a-clinical-approach-to-bike-fitting-key-considerations-for-women-webinar-with-kyle-rempel/
LOCATION:Ontario
CATEGORIES:Education,Ontario Women's Cycling
END:VEVENT
BEGIN:VEVENT
DTSTART;TZID=America/Toronto:20260507T173000
DTEND;TZID=America/Toronto:20260507T203000
DTSTAMP:20260424T150600
CREATED:20260420T170917Z
LAST-MODIFIED:20260420T170917Z
UID:11411-1778175000-1778185800@ontariocycling.org
SUMMARY:Ciociaro Race Series
DESCRIPTION:This year marks a decade of the Ciociaro Race Series! This weekly race takes place on a unique closed circuit at the Ciociaro Club in South Windsor. There are 3 different race categories (A\,B\,C)\, each with a specific start time. Race each week for a chance to win points\, cash primes and pizza! \nThe series standings are based on points so make sure to come each week to win as many points as you can! \nRegistration (Coming Soon) \n  \nSeries Dates: \n\nApril 23rd\nMay 7th\nMay 21st\nJune 4th\nJune 18th\nJuly 2nd\nJuly 16th\nJuly 30th\nAugust 13th\nAugust 20th
URL:https://ontariocycling.org/event/ciociaro-race-series-10-9/
LOCATION:Ciociaro Club\, 3745 N Talbot Rd\, Oldcastle\, Ontario\, N0R 1L0\, Canada
CATEGORIES:Weekly Series
END:VEVENT
END:VCALENDAR