BEGIN:VCALENDAR
VERSION:2.0
PRODID:-//ONTARIO CYCLING - ECPv6.15.20//NONSGML v1.0//EN
CALSCALE:GREGORIAN
METHOD:PUBLISH
X-WR-CALNAME:ONTARIO CYCLING
X-ORIGINAL-URL:https://ontariocycling.org
X-WR-CALDESC:Events for ONTARIO CYCLING
REFRESH-INTERVAL;VALUE=DURATION:PT1H
X-Robots-Tag:noindex
X-PUBLISHED-TTL:PT1H
BEGIN:VTIMEZONE
TZID:America/Toronto
BEGIN:DAYLIGHT
TZOFFSETFROM:-0500
TZOFFSETTO:-0400
TZNAME:EDT
DTSTART:20240310T070000
END:DAYLIGHT
BEGIN:STANDARD
TZOFFSETFROM:-0400
TZOFFSETTO:-0500
TZNAME:EST
DTSTART:20241103T060000
END:STANDARD
BEGIN:DAYLIGHT
TZOFFSETFROM:-0500
TZOFFSETTO:-0400
TZNAME:EDT
DTSTART:20250309T070000
END:DAYLIGHT
BEGIN:STANDARD
TZOFFSETFROM:-0400
TZOFFSETTO:-0500
TZNAME:EST
DTSTART:20251102T060000
END:STANDARD
BEGIN:DAYLIGHT
TZOFFSETFROM:-0500
TZOFFSETTO:-0400
TZNAME:EDT
DTSTART:20260308T070000
END:DAYLIGHT
BEGIN:STANDARD
TZOFFSETFROM:-0400
TZOFFSETTO:-0500
TZNAME:EST
DTSTART:20261101T060000
END:STANDARD
END:VTIMEZONE
BEGIN:VEVENT
DTSTART;TZID=America/Toronto:20250128T130000
DTEND;TZID=America/Toronto:20250129T030000
DTSTAMP:20260424T152629
CREATED:20250127T185150Z
LAST-MODIFIED:20250127T185150Z
UID:6745-1738069200-1738119600@ontariocycling.org
SUMMARY:Pedalheads - ON Summer Bike & Combo Registration
DESCRIPTION:Learn-to-ride bike and trail riding camps for kids 2-12. Best known for getting kids off of training wheels and safely riding on the road. \n\nSmall classes\nHighly trained instructors\nA fun and well-structured curriculum\nLocations across the GTA\, Ottawa and other areas of Southern Ontario\n\nRegistration \nOther Resources: \n\nPedalheads – Bike\nPedalheads – Trail\nPedalheads- Ontario Programs
URL:https://ontariocycling.org/event/pedalheads-on-summer-bike-combo-registration/
LOCATION:Ontario
CATEGORIES:Youth
ATTACH;FMTTYPE=image/jpeg:https://ontariocycling.org/wp-content/uploads/2025/01/180823_Rethink_Pedalheads-1742_EDIT.jpg
END:VEVENT
END:VCALENDAR