BEGIN:VCALENDAR
VERSION:2.0
PRODID:-//ONTARIO CYCLING - ECPv6.15.20//NONSGML v1.0//EN
CALSCALE:GREGORIAN
METHOD:PUBLISH
X-WR-CALNAME:ONTARIO CYCLING
X-ORIGINAL-URL:https://ontariocycling.org
X-WR-CALDESC:Events for ONTARIO CYCLING
REFRESH-INTERVAL;VALUE=DURATION:PT1H
X-Robots-Tag:noindex
X-PUBLISHED-TTL:PT1H
BEGIN:VTIMEZONE
TZID:America/Toronto
BEGIN:DAYLIGHT
TZOFFSETFROM:-0500
TZOFFSETTO:-0400
TZNAME:EDT
DTSTART:20230312T070000
END:DAYLIGHT
BEGIN:STANDARD
TZOFFSETFROM:-0400
TZOFFSETTO:-0500
TZNAME:EST
DTSTART:20231105T060000
END:STANDARD
BEGIN:DAYLIGHT
TZOFFSETFROM:-0500
TZOFFSETTO:-0400
TZNAME:EDT
DTSTART:20240310T070000
END:DAYLIGHT
BEGIN:STANDARD
TZOFFSETFROM:-0400
TZOFFSETTO:-0500
TZNAME:EST
DTSTART:20241103T060000
END:STANDARD
BEGIN:DAYLIGHT
TZOFFSETFROM:-0500
TZOFFSETTO:-0400
TZNAME:EDT
DTSTART:20250309T070000
END:DAYLIGHT
BEGIN:STANDARD
TZOFFSETFROM:-0400
TZOFFSETTO:-0500
TZNAME:EST
DTSTART:20251102T060000
END:STANDARD
END:VTIMEZONE
BEGIN:VEVENT
DTSTART;TZID=America/Toronto:20240722T090000
DTEND;TZID=America/Toronto:20240726T120000
DTSTAMP:20260424T090428
CREATED:20240517T162236Z
LAST-MODIFIED:20240517T162236Z
UID:4865-1721638800-1721995200@ontariocycling.org
SUMMARY:Town of Pelham Presents: HopOn Bike Camp
DESCRIPTION:The Town of Pelham Bike Camp partners with Ontario Cycling to focus on safe cycling for fun and health. Campers with spend their morning learning bike safety and cycling skills. Youth cyclists are taught to ride safely using the road system to the Pelham Community Pool and the Steve Bauer Trail. Campers will bike from the Meridian Community Centre to the pool for an afternoon of swimming. \nHopOn is a game-based activity program for youth to develop on-bike skills. This program was adopted by Cycling Canada from Cycling BC and is considered the “national standard” when teaching fundamental cycling skills. \nLed by trained instructors\, the program provides youth to participate in an inclusive & positive sports environment. With over 130 games & activities\, the HopOn curriculum has 5 levels of adaptability to meet the needs of the participants development stage. \nSkills that are practiced through this curriculum of game-based activities include but not limited to: helmet & bike check\, braking\, gearing\, ready position\, straight-line riding\, turning/cornering\, front-wheel lifts\, tilts & dismounts\, one-hand riding & partner riding. \n*Campers must have a working bike and bike helmet Friday lunches are optional for a $10.00 fee. \nInstructor: Dawn Elliot \nRegistration
URL:https://ontariocycling.org/event/town-of-pelham-presents-hopon-bike-camp-2024-07-22/
CATEGORIES:HopOn,Youth
ATTACH;FMTTYPE=image/png:https://ontariocycling.org/wp-content/uploads/2022/08/News-Articles-8.png
END:VEVENT
BEGIN:VEVENT
DTSTART;TZID=America/Toronto:20240722T090000
DTEND;TZID=America/Toronto:20240726T160000
DTSTAMP:20260424T090428
CREATED:20240517T163834Z
LAST-MODIFIED:20240517T163834Z
UID:4871-1721638800-1722009600@ontariocycling.org
SUMMARY:Peterborough Cycling Club & GreenUP Presents: HopOn Bike Camp
DESCRIPTION:This week-long day camp\, based out of the Aylmer Street GreenUP location\, will empower youth ages 9-12 to navigate the city by bicycle. GreenUP has previously piloted adventure-based camps and we are delighted to be offering a full season of camps where participants will learn bike handling skills using the Cycling Canada HopOn curriculum. \nHopOn is a games-based curriculum that helps riders of all abilities build their bike handling skills. During Urban Bike Adventures\, participants will learn the joy of cycling safely and develop their knowledge and skill in how to navigate our community. \nRegistration
URL:https://ontariocycling.org/event/peterborough-cycling-club-greenup-presents-hopon-bike-camp-2-2024-07-22/
CATEGORIES:HopOn,Youth
ATTACH;FMTTYPE=image/png:https://ontariocycling.org/wp-content/uploads/2022/08/News-Articles-8.png
END:VEVENT
BEGIN:VEVENT
DTSTART;TZID=America/Toronto:20240711T150000
DTEND;TZID=America/Toronto:20240711T200000
DTSTAMP:20260424T090428
CREATED:20240710T184734Z
LAST-MODIFIED:20240710T184734Z
UID:6599-1720710000-1720728000@ontariocycling.org
SUMMARY:The MTB Exchange - Shred'hers Women's Downhill Nights
DESCRIPTION:Join The MTB Exchange for this 9 week summer series. The Shred’hers Women’s Downhill Nights\, run every Thursday from July 4th to August 29th. There will be an emphasis on progression. First Thursday\, starts with a green\, then progressively harder courses will be closed to session each week. \n3:00PM – 5PM Free Ride \n5:00PM Everyone gathers for briefing \n5:00PM – 8:00PM Closed course sessioning\, women only \n8:00 PM – On: Après event at The Crazy Horse with Beer & Cheer \nRegistration Information
URL:https://ontariocycling.org/event/the-mtb-exchange-shredhers-womens-downhill-nights/
LOCATION:HP6
CATEGORIES:Ontario Women's Cycling
ATTACH;FMTTYPE=image/png:https://ontariocycling.org/wp-content/uploads/2024/07/thumbnail_Horseshoe-ShredHERS.png
END:VEVENT
BEGIN:VEVENT
DTSTART;TZID=America/Toronto:20240718T150000
DTEND;TZID=America/Toronto:20240718T200000
DTSTAMP:20260424T090428
CREATED:20240710T184734Z
LAST-MODIFIED:20240710T184734Z
UID:6600-1721314800-1721332800@ontariocycling.org
SUMMARY:The MTB Exchange - Shred'hers Women's Downhill Nights
DESCRIPTION:Join The MTB Exchange for this 9 week summer series. The Shred’hers Women’s Downhill Nights\, run every Thursday from July 4th to August 29th. There will be an emphasis on progression. First Thursday\, starts with a green\, then progressively harder courses will be closed to session each week. \n3:00PM – 5PM Free Ride \n5:00PM Everyone gathers for briefing \n5:00PM – 8:00PM Closed course sessioning\, women only \n8:00 PM – On: Après event at The Crazy Horse with Beer & Cheer \nRegistration Information
URL:https://ontariocycling.org/event/the-mtb-exchange-shredhers-womens-downhill-nights-2024-07-18/
LOCATION:HP6
CATEGORIES:Ontario Women's Cycling
ATTACH;FMTTYPE=image/png:https://ontariocycling.org/wp-content/uploads/2024/07/thumbnail_Horseshoe-ShredHERS.png
END:VEVENT
BEGIN:VEVENT
DTSTART;TZID=America/Toronto:20240725T150000
DTEND;TZID=America/Toronto:20240725T200000
DTSTAMP:20260424T090428
CREATED:20240710T184734Z
LAST-MODIFIED:20240710T184734Z
UID:6601-1721919600-1721937600@ontariocycling.org
SUMMARY:The MTB Exchange - Shred'hers Women's Downhill Nights
DESCRIPTION:Join The MTB Exchange for this 9 week summer series. The Shred’hers Women’s Downhill Nights\, run every Thursday from July 4th to August 29th. There will be an emphasis on progression. First Thursday\, starts with a green\, then progressively harder courses will be closed to session each week. \n3:00PM – 5PM Free Ride \n5:00PM Everyone gathers for briefing \n5:00PM – 8:00PM Closed course sessioning\, women only \n8:00 PM – On: Après event at The Crazy Horse with Beer & Cheer \nRegistration Information
URL:https://ontariocycling.org/event/the-mtb-exchange-shredhers-womens-downhill-nights-2024-07-25/
LOCATION:HP6
CATEGORIES:Ontario Women's Cycling
ATTACH;FMTTYPE=image/png:https://ontariocycling.org/wp-content/uploads/2024/07/thumbnail_Horseshoe-ShredHERS.png
END:VEVENT
BEGIN:VEVENT
DTSTART;TZID=America/Toronto:20240613T180000
DTEND;TZID=America/Toronto:20240613T200000
DTSTAMP:20260424T090428
CREATED:20240613T193635Z
LAST-MODIFIED:20240613T193635Z
UID:5166-1718301600-1718308800@ontariocycling.org
SUMMARY:OBC Women's Group
DESCRIPTION:Every other Thursdays\, starting June 13 (June 6 had to be cancelled)\, we will host women-only rides at the Gatineau Park. We will start by tackling Pink Lake hill and consult with our women riders on their preferred route\, for that evening. \nOur ride leader will be Lucie Boudreau\, and we will meet at P3 Gamelin. Please plan to arrive shortly before 6:00 p.m. \nHere is our registration link for June 13:\nhttps://www.webscorer.com/register?raceid=353529 \nPlease contact Emily at emily.graves@ottawabicycleclub.ca or at 6138838268 if you have any questions\, or if for any reason\, you are unable to join a ride you signed up for. \nThank you!
URL:https://ontariocycling.org/event/obc-womens-group/
CATEGORIES:Ontario Women's Cycling
END:VEVENT
BEGIN:VEVENT
DTSTART;TZID=America/Toronto:20240627T180000
DTEND;TZID=America/Toronto:20240627T200000
DTSTAMP:20260424T090428
CREATED:20240613T193635Z
LAST-MODIFIED:20240613T193635Z
UID:5168-1719511200-1719518400@ontariocycling.org
SUMMARY:OBC Women's Group
DESCRIPTION:Every other Thursdays\, starting June 13 (June 6 had to be cancelled)\, we will host women-only rides at the Gatineau Park. We will start by tackling Pink Lake hill and consult with our women riders on their preferred route\, for that evening. \nOur ride leader will be Lucie Boudreau\, and we will meet at P3 Gamelin. Please plan to arrive shortly before 6:00 p.m. \nHere is our registration link for June 13:\nhttps://www.webscorer.com/register?raceid=353529 \nPlease contact Emily at emily.graves@ottawabicycleclub.ca or at 6138838268 if you have any questions\, or if for any reason\, you are unable to join a ride you signed up for. \nThank you!
URL:https://ontariocycling.org/event/obc-womens-group-2024-06-27/
CATEGORIES:Ontario Women's Cycling
END:VEVENT
BEGIN:VEVENT
DTSTART;TZID=America/Toronto:20240711T180000
DTEND;TZID=America/Toronto:20240711T200000
DTSTAMP:20260424T090428
CREATED:20240613T193635Z
LAST-MODIFIED:20240613T193635Z
UID:5169-1720720800-1720728000@ontariocycling.org
SUMMARY:OBC Women's Group
DESCRIPTION:Every other Thursdays\, starting June 13 (June 6 had to be cancelled)\, we will host women-only rides at the Gatineau Park. We will start by tackling Pink Lake hill and consult with our women riders on their preferred route\, for that evening. \nOur ride leader will be Lucie Boudreau\, and we will meet at P3 Gamelin. Please plan to arrive shortly before 6:00 p.m. \nHere is our registration link for June 13:\nhttps://www.webscorer.com/register?raceid=353529 \nPlease contact Emily at emily.graves@ottawabicycleclub.ca or at 6138838268 if you have any questions\, or if for any reason\, you are unable to join a ride you signed up for. \nThank you!
URL:https://ontariocycling.org/event/obc-womens-group-2024-07-11/
CATEGORIES:Ontario Women's Cycling
END:VEVENT
BEGIN:VEVENT
DTSTART;TZID=America/Toronto:20240725T180000
DTEND;TZID=America/Toronto:20240725T200000
DTSTAMP:20260424T090428
CREATED:20240613T193635Z
LAST-MODIFIED:20240613T193635Z
UID:5170-1721930400-1721937600@ontariocycling.org
SUMMARY:OBC Women's Group
DESCRIPTION:Every other Thursdays\, starting June 13 (June 6 had to be cancelled)\, we will host women-only rides at the Gatineau Park. We will start by tackling Pink Lake hill and consult with our women riders on their preferred route\, for that evening. \nOur ride leader will be Lucie Boudreau\, and we will meet at P3 Gamelin. Please plan to arrive shortly before 6:00 p.m. \nHere is our registration link for June 13:\nhttps://www.webscorer.com/register?raceid=353529 \nPlease contact Emily at emily.graves@ottawabicycleclub.ca or at 6138838268 if you have any questions\, or if for any reason\, you are unable to join a ride you signed up for. \nThank you!
URL:https://ontariocycling.org/event/obc-womens-group-2024-07-25/
CATEGORIES:Ontario Women's Cycling
END:VEVENT
END:VCALENDAR