BEGIN:VCALENDAR
VERSION:2.0
PRODID:-//ONTARIO CYCLING - ECPv6.15.17.1//NONSGML v1.0//EN
CALSCALE:GREGORIAN
METHOD:PUBLISH
X-WR-CALNAME:ONTARIO CYCLING
X-ORIGINAL-URL:https://ontariocycling.org
X-WR-CALDESC:Events for ONTARIO CYCLING
REFRESH-INTERVAL;VALUE=DURATION:PT1H
X-Robots-Tag:noindex
X-PUBLISHED-TTL:PT1H
BEGIN:VTIMEZONE
TZID:UTC
BEGIN:STANDARD
TZOFFSETFROM:+0000
TZOFFSETTO:+0000
TZNAME:UTC
DTSTART:20220101T000000
END:STANDARD
END:VTIMEZONE
BEGIN:VEVENT
DTSTART;VALUE=DATE:20230128
DTEND;VALUE=DATE:20230129
DTSTAMP:20260420T050150
CREATED:20220921T003622Z
LAST-MODIFIED:20220921T003622Z
UID:1086-1674864000-1674950399@ontariocycling.org
SUMMARY:Track - Youth Track Development Series #3
DESCRIPTION:Ontario Cycling (OC) is proud to present the 2022-2023 Youth Track Development Series (YTDS) held at the Mattamy National Cycling Center located at 2015 Pan Am Boulevard in Milton\, Ontario. The YTDS\, sanctioned and governed by Ontario Cycling\, consists of 4 separate racing opportunities\, with different events at each one. The series is designed to optimize the development of our young athletes\, through providing fun\, non-traditional races. This allows the riders to focus on skills\, speed\, tactics\, and personal bests\, rather than competition and endurance. \n\nRegistration for all YTDS is open to riders 18 years of age and younger\, with a minimum age of 9.\nThe event is pre-registration only. Late entries will be reviewed on a case by case basis. If granted\, will have an additional fee of $50.00.\nOnly Provincial Race Licenses and UCI Race Licenses are permitted. Out-of-Province riders must have a UCI License. Licenses will not be sold on event day and must be purchased in advance.\nThere will be 2 types of registration:– Series Registration – includes YTDS #1\, #2\, #3\, Finale– Individual Registration – one of YTDS #1\, #2\, #3\, or Finale\nIn order to participate in the YTDS Finale\, for Ontario athletes only\, all riders must have participated in at least 1 Youth Track Development Event (either #1\, #2\, or #3).\nRegistration for each YTDS and Finale will close on the Tuesday at 12:00pm noon prior to the event date.\nRiders must participate in all races at each YTDS event. If a rider unnecessarily withdraws from one race\, they may not be allowed to continue racing for the remainder of the day.\n\n															 \nAll riders must be Youth Track Certified through the National Cycling Institute Milton (NCIM). \nAthletes who have raced at NCIM/FCV-sanctioned race nights should consult with their coach to determine the category that best suits their abilities. The onus will be on the athlete’s coach to make this determination.  \nAny athlete that does not have a coach but has raced NCIM/FCV races should contact OC to determine their race category.  \nAssessments of track competencies include:  \n\nAbility to ride safely and confidently in a pack\nAbility to move up and down the track (ie. Above the blue line) \nExhibits spatial awareness (ie. Shoulder checks) \n\nYTDS are run using ability-based categories. The ability-based format allows athletes to self-seed from Categories A to E\, based on their ability and experience level\, not gender and age. The ability-based format is designed to provide meaningful competition for all riders and to help ensure appropriate participation numbers for quality racing. \nYTDS #1 features the 500m time trial\, which will be used to verify the categories of the riders. Adjustments may be made to rider placements after the first bunch race if there are any discrepancies.  \n			\n						TECH GUIDE\n					\n			\n						REGISTRATION
URL:https://ontariocycling.org/event/track-ytds3/
LOCATION:Picture1-3.png
CATEGORIES:Track
ATTACH;FMTTYPE=image/png:https://ontariocycling.org/wp-content/uploads/2022/08/News-Articles-12.png
END:VEVENT
END:VCALENDAR